BEGIN:VCALENDAR
VERSION:2.0
PRODID:-//St. Paul&#039;s Roman Catholic Church - ECPv6.15.20//NONSGML v1.0//EN
CALSCALE:GREGORIAN
METHOD:PUBLISH
X-ORIGINAL-URL:https://www.stpaulsrcc.org
X-WR-CALDESC:Events for St. Paul&#039;s Roman Catholic Church
REFRESH-INTERVAL;VALUE=DURATION:PT1H
X-Robots-Tag:noindex
X-PUBLISHED-TTL:PT1H
BEGIN:VTIMEZONE
TZID:America/New_York
BEGIN:DAYLIGHT
TZOFFSETFROM:-0500
TZOFFSETTO:-0400
TZNAME:EDT
DTSTART:20240310T070000
END:DAYLIGHT
BEGIN:STANDARD
TZOFFSETFROM:-0400
TZOFFSETTO:-0500
TZNAME:EST
DTSTART:20241103T060000
END:STANDARD
BEGIN:DAYLIGHT
TZOFFSETFROM:-0500
TZOFFSETTO:-0400
TZNAME:EDT
DTSTART:20250309T070000
END:DAYLIGHT
BEGIN:STANDARD
TZOFFSETFROM:-0400
TZOFFSETTO:-0500
TZNAME:EST
DTSTART:20251102T060000
END:STANDARD
BEGIN:DAYLIGHT
TZOFFSETFROM:-0500
TZOFFSETTO:-0400
TZNAME:EDT
DTSTART:20260308T070000
END:DAYLIGHT
BEGIN:STANDARD
TZOFFSETFROM:-0400
TZOFFSETTO:-0500
TZNAME:EST
DTSTART:20261101T060000
END:STANDARD
END:VTIMEZONE
BEGIN:VEVENT
DTSTART;TZID=America/New_York:20250801T080000
DTEND;TZID=America/New_York:20250801T083000
DTSTAMP:20260425T234212
CREATED:20180902T234259Z
LAST-MODIFIED:20180902T234259Z
UID:114158-1754035200-1754037000@www.stpaulsrcc.org
SUMMARY:Rosary
DESCRIPTION:
URL:https://www.stpaulsrcc.org/event/rosary/2025-08-01/
END:VEVENT
BEGIN:VEVENT
DTSTART;TZID=America/New_York:20250801T083000
DTEND;TZID=America/New_York:20250801T090000
DTSTAMP:20260425T234212
CREATED:20180902T234809Z
LAST-MODIFIED:20180902T234809Z
UID:114157-1754037000-1754038800@www.stpaulsrcc.org
SUMMARY:Communion Service
DESCRIPTION:
URL:https://www.stpaulsrcc.org/event/communion-service/2025-08-01/
END:VEVENT
BEGIN:VEVENT
DTSTART;TZID=America/New_York:20250802T160000
DTEND;TZID=America/New_York:20250802T163000
DTSTAMP:20260425T234212
CREATED:20180902T235631Z
LAST-MODIFIED:20180902T235631Z
UID:114163-1754150400-1754152200@www.stpaulsrcc.org
SUMMARY:Confession
DESCRIPTION:
URL:https://www.stpaulsrcc.org/event/confession/2025-08-02/
END:VEVENT
BEGIN:VEVENT
DTSTART;TZID=America/New_York:20250802T170000
DTEND;TZID=America/New_York:20250802T170000
DTSTAMP:20260425T234212
CREATED:20180822T184844Z
LAST-MODIFIED:20180822T184844Z
UID:114162-1754154000-1754154000@www.stpaulsrcc.org
SUMMARY:5:00 pm Mass
DESCRIPTION:
URL:https://www.stpaulsrcc.org/event/500-mass/2025-08-02/
END:VEVENT
BEGIN:VEVENT
DTSTART;TZID=America/New_York:20250803T090000
DTEND;TZID=America/New_York:20250803T100000
DTSTAMP:20260425T234212
CREATED:20180919T155747Z
LAST-MODIFIED:20180919T155747Z
UID:114167-1754211600-1754215200@www.stpaulsrcc.org
SUMMARY:9:00 am Mass
DESCRIPTION:
URL:https://www.stpaulsrcc.org/event/900-mass/2025-08-03/
END:VEVENT
BEGIN:VEVENT
DTSTART;TZID=America/New_York:20250803T110000
DTEND;TZID=America/New_York:20250803T110000
DTSTAMP:20260425T234212
CREATED:20180919T173655Z
LAST-MODIFIED:20180919T173655Z
UID:114168-1754218800-1754218800@www.stpaulsrcc.org
SUMMARY:11:00 am Mass
DESCRIPTION:
URL:https://www.stpaulsrcc.org/event/1100-mass/2025-08-03/
END:VEVENT
BEGIN:VEVENT
DTSTART;TZID=America/New_York:20250804T080000
DTEND;TZID=America/New_York:20250804T083000
DTSTAMP:20260425T234212
CREATED:20180902T234259Z
LAST-MODIFIED:20180902T234259Z
UID:114170-1754294400-1754296200@www.stpaulsrcc.org
SUMMARY:Rosary
DESCRIPTION:
URL:https://www.stpaulsrcc.org/event/rosary/2025-08-04/
END:VEVENT
BEGIN:VEVENT
DTSTART;TZID=America/New_York:20250804T083000
DTEND;TZID=America/New_York:20250804T090000
DTSTAMP:20260425T234212
CREATED:20180902T234550Z
LAST-MODIFIED:20180902T234550Z
UID:114169-1754296200-1754298000@www.stpaulsrcc.org
SUMMARY:Mass
DESCRIPTION:
URL:https://www.stpaulsrcc.org/event/mass/2025-08-04/
END:VEVENT
BEGIN:VEVENT
DTSTART;TZID=America/New_York:20250805T080000
DTEND;TZID=America/New_York:20250805T083000
DTSTAMP:20260425T234212
CREATED:20180902T234259Z
LAST-MODIFIED:20180902T234259Z
UID:114173-1754380800-1754382600@www.stpaulsrcc.org
SUMMARY:Rosary
DESCRIPTION:
URL:https://www.stpaulsrcc.org/event/rosary/2025-08-05/
END:VEVENT
BEGIN:VEVENT
DTSTART;TZID=America/New_York:20250805T083000
DTEND;TZID=America/New_York:20250805T090000
DTSTAMP:20260425T234212
CREATED:20180902T234550Z
LAST-MODIFIED:20180902T234550Z
UID:114172-1754382600-1754384400@www.stpaulsrcc.org
SUMMARY:Mass
DESCRIPTION:
URL:https://www.stpaulsrcc.org/event/mass/2025-08-05/
END:VEVENT
BEGIN:VEVENT
DTSTART;TZID=America/New_York:20250806T080000
DTEND;TZID=America/New_York:20250806T083000
DTSTAMP:20260425T234212
CREATED:20180902T234259Z
LAST-MODIFIED:20180902T234259Z
UID:114190-1754467200-1754469000@www.stpaulsrcc.org
SUMMARY:Rosary
DESCRIPTION:
URL:https://www.stpaulsrcc.org/event/rosary/2025-08-06/
END:VEVENT
BEGIN:VEVENT
DTSTART;TZID=America/New_York:20250806T083000
DTEND;TZID=America/New_York:20250806T090000
DTSTAMP:20260425T234212
CREATED:20180902T234550Z
LAST-MODIFIED:20180902T234550Z
UID:114189-1754469000-1754470800@www.stpaulsrcc.org
SUMMARY:Mass
DESCRIPTION:
URL:https://www.stpaulsrcc.org/event/mass/2025-08-06/
END:VEVENT
BEGIN:VEVENT
DTSTART;TZID=America/New_York:20250806T090000
DTEND;TZID=America/New_York:20250806T100000
DTSTAMP:20260425T234212
CREATED:20180902T235249Z
LAST-MODIFIED:20180902T235249Z
UID:114188-1754470800-1754474400@www.stpaulsrcc.org
SUMMARY:Adoration
DESCRIPTION:
URL:https://www.stpaulsrcc.org/event/adoration/2025-08-06/
END:VEVENT
BEGIN:VEVENT
DTSTART;TZID=America/New_York:20250807T080000
DTEND;TZID=America/New_York:20250807T083000
DTSTAMP:20260425T234212
CREATED:20180902T234259Z
LAST-MODIFIED:20180902T234259Z
UID:114195-1754553600-1754555400@www.stpaulsrcc.org
SUMMARY:Rosary
DESCRIPTION:
URL:https://www.stpaulsrcc.org/event/rosary/2025-08-07/
END:VEVENT
BEGIN:VEVENT
DTSTART;TZID=America/New_York:20250807T083000
DTEND;TZID=America/New_York:20250807T090000
DTSTAMP:20260425T234212
CREATED:20180902T234550Z
LAST-MODIFIED:20180902T234550Z
UID:114194-1754555400-1754557200@www.stpaulsrcc.org
SUMMARY:Mass
DESCRIPTION:
URL:https://www.stpaulsrcc.org/event/mass/2025-08-07/
END:VEVENT
BEGIN:VEVENT
DTSTART;TZID=America/New_York:20250808T080000
DTEND;TZID=America/New_York:20250808T083000
DTSTAMP:20260425T234212
CREATED:20180902T234259Z
LAST-MODIFIED:20180902T234259Z
UID:114199-1754640000-1754641800@www.stpaulsrcc.org
SUMMARY:Rosary
DESCRIPTION:
URL:https://www.stpaulsrcc.org/event/rosary/2025-08-08/
END:VEVENT
BEGIN:VEVENT
DTSTART;TZID=America/New_York:20250808T083000
DTEND;TZID=America/New_York:20250808T090000
DTSTAMP:20260425T234212
CREATED:20180902T234809Z
LAST-MODIFIED:20180902T234809Z
UID:114198-1754641800-1754643600@www.stpaulsrcc.org
SUMMARY:Communion Service
DESCRIPTION:
URL:https://www.stpaulsrcc.org/event/communion-service/2025-08-08/
END:VEVENT
BEGIN:VEVENT
DTSTART;TZID=America/New_York:20250809T160000
DTEND;TZID=America/New_York:20250809T163000
DTSTAMP:20260425T234212
CREATED:20180902T235631Z
LAST-MODIFIED:20180902T235631Z
UID:114202-1754755200-1754757000@www.stpaulsrcc.org
SUMMARY:Confession
DESCRIPTION:
URL:https://www.stpaulsrcc.org/event/confession/2025-08-09/
END:VEVENT
BEGIN:VEVENT
DTSTART;TZID=America/New_York:20250809T170000
DTEND;TZID=America/New_York:20250809T170000
DTSTAMP:20260425T234212
CREATED:20180822T184844Z
LAST-MODIFIED:20180822T184844Z
UID:114201-1754758800-1754758800@www.stpaulsrcc.org
SUMMARY:5:00 pm Mass
DESCRIPTION:
URL:https://www.stpaulsrcc.org/event/500-mass/2025-08-09/
END:VEVENT
BEGIN:VEVENT
DTSTART;TZID=America/New_York:20250810T090000
DTEND;TZID=America/New_York:20250810T100000
DTSTAMP:20260425T234212
CREATED:20180919T155747Z
LAST-MODIFIED:20180919T155747Z
UID:114203-1754816400-1754820000@www.stpaulsrcc.org
SUMMARY:9:00 am Mass
DESCRIPTION:
URL:https://www.stpaulsrcc.org/event/900-mass/2025-08-10/
END:VEVENT
BEGIN:VEVENT
DTSTART;TZID=America/New_York:20250810T110000
DTEND;TZID=America/New_York:20250810T110000
DTSTAMP:20260425T234212
CREATED:20180919T173655Z
LAST-MODIFIED:20180919T173655Z
UID:114204-1754823600-1754823600@www.stpaulsrcc.org
SUMMARY:11:00 am Mass
DESCRIPTION:
URL:https://www.stpaulsrcc.org/event/1100-mass/2025-08-10/
END:VEVENT
BEGIN:VEVENT
DTSTART;TZID=America/New_York:20250811T080000
DTEND;TZID=America/New_York:20250811T083000
DTSTAMP:20260425T234212
CREATED:20180902T234259Z
LAST-MODIFIED:20180902T234259Z
UID:114206-1754899200-1754901000@www.stpaulsrcc.org
SUMMARY:Rosary
DESCRIPTION:
URL:https://www.stpaulsrcc.org/event/rosary/2025-08-11/
END:VEVENT
BEGIN:VEVENT
DTSTART;TZID=America/New_York:20250811T083000
DTEND;TZID=America/New_York:20250811T090000
DTSTAMP:20260425T234212
CREATED:20180902T234550Z
LAST-MODIFIED:20180902T234550Z
UID:114205-1754901000-1754902800@www.stpaulsrcc.org
SUMMARY:Mass
DESCRIPTION:
URL:https://www.stpaulsrcc.org/event/mass/2025-08-11/
END:VEVENT
BEGIN:VEVENT
DTSTART;TZID=America/New_York:20250812T080000
DTEND;TZID=America/New_York:20250812T083000
DTSTAMP:20260425T234212
CREATED:20180902T234259Z
LAST-MODIFIED:20180902T234259Z
UID:114208-1754985600-1754987400@www.stpaulsrcc.org
SUMMARY:Rosary
DESCRIPTION:
URL:https://www.stpaulsrcc.org/event/rosary/2025-08-12/
END:VEVENT
BEGIN:VEVENT
DTSTART;TZID=America/New_York:20250812T083000
DTEND;TZID=America/New_York:20250812T090000
DTSTAMP:20260425T234212
CREATED:20180902T234550Z
LAST-MODIFIED:20180902T234550Z
UID:114207-1754987400-1754989200@www.stpaulsrcc.org
SUMMARY:Mass
DESCRIPTION:
URL:https://www.stpaulsrcc.org/event/mass/2025-08-12/
END:VEVENT
BEGIN:VEVENT
DTSTART;TZID=America/New_York:20250813T080000
DTEND;TZID=America/New_York:20250813T083000
DTSTAMP:20260425T234212
CREATED:20180902T234259Z
LAST-MODIFIED:20180902T234259Z
UID:114217-1755072000-1755073800@www.stpaulsrcc.org
SUMMARY:Rosary
DESCRIPTION:
URL:https://www.stpaulsrcc.org/event/rosary/2025-08-13/
END:VEVENT
BEGIN:VEVENT
DTSTART;TZID=America/New_York:20250813T083000
DTEND;TZID=America/New_York:20250813T090000
DTSTAMP:20260425T234212
CREATED:20180902T234550Z
LAST-MODIFIED:20180902T234550Z
UID:114216-1755073800-1755075600@www.stpaulsrcc.org
SUMMARY:Mass
DESCRIPTION:
URL:https://www.stpaulsrcc.org/event/mass/2025-08-13/
END:VEVENT
BEGIN:VEVENT
DTSTART;TZID=America/New_York:20250813T090000
DTEND;TZID=America/New_York:20250813T100000
DTSTAMP:20260425T234212
CREATED:20180902T235249Z
LAST-MODIFIED:20180902T235249Z
UID:114215-1755075600-1755079200@www.stpaulsrcc.org
SUMMARY:Adoration
DESCRIPTION:
URL:https://www.stpaulsrcc.org/event/adoration/2025-08-13/
END:VEVENT
BEGIN:VEVENT
DTSTART;TZID=America/New_York:20250814T080000
DTEND;TZID=America/New_York:20250814T083000
DTSTAMP:20260425T234212
CREATED:20180902T234259Z
LAST-MODIFIED:20180902T234259Z
UID:114219-1755158400-1755160200@www.stpaulsrcc.org
SUMMARY:Rosary
DESCRIPTION:
URL:https://www.stpaulsrcc.org/event/rosary/2025-08-14/
END:VEVENT
BEGIN:VEVENT
DTSTART;TZID=America/New_York:20250814T083000
DTEND;TZID=America/New_York:20250814T090000
DTSTAMP:20260425T234212
CREATED:20180902T234550Z
LAST-MODIFIED:20180902T234550Z
UID:114218-1755160200-1755162000@www.stpaulsrcc.org
SUMMARY:Mass
DESCRIPTION:
URL:https://www.stpaulsrcc.org/event/mass/2025-08-14/
END:VEVENT
END:VCALENDAR