BEGIN:VCALENDAR
VERSION:2.0
PRODID:-//St. Paul&#039;s Roman Catholic Church - ECPv6.15.20//NONSGML v1.0//EN
CALSCALE:GREGORIAN
METHOD:PUBLISH
X-WR-CALNAME:St. Paul&#039;s Roman Catholic Church
X-ORIGINAL-URL:https://www.stpaulsrcc.org
X-WR-CALDESC:Events for St. Paul&#039;s Roman Catholic Church
REFRESH-INTERVAL;VALUE=DURATION:PT1H
X-Robots-Tag:noindex
X-PUBLISHED-TTL:PT1H
BEGIN:VTIMEZONE
TZID:America/New_York
BEGIN:DAYLIGHT
TZOFFSETFROM:-0500
TZOFFSETTO:-0400
TZNAME:EDT
DTSTART:20240310T070000
END:DAYLIGHT
BEGIN:STANDARD
TZOFFSETFROM:-0400
TZOFFSETTO:-0500
TZNAME:EST
DTSTART:20241103T060000
END:STANDARD
BEGIN:DAYLIGHT
TZOFFSETFROM:-0500
TZOFFSETTO:-0400
TZNAME:EDT
DTSTART:20250309T070000
END:DAYLIGHT
BEGIN:STANDARD
TZOFFSETFROM:-0400
TZOFFSETTO:-0500
TZNAME:EST
DTSTART:20251102T060000
END:STANDARD
BEGIN:DAYLIGHT
TZOFFSETFROM:-0500
TZOFFSETTO:-0400
TZNAME:EDT
DTSTART:20260308T070000
END:DAYLIGHT
BEGIN:STANDARD
TZOFFSETFROM:-0400
TZOFFSETTO:-0500
TZNAME:EST
DTSTART:20261101T060000
END:STANDARD
END:VTIMEZONE
BEGIN:VEVENT
DTSTART;TZID=America/New_York:20250901T080000
DTEND;TZID=America/New_York:20250901T083000
DTSTAMP:20260425T221641
CREATED:20180902T234259Z
LAST-MODIFIED:20180902T234259Z
UID:114313-1756713600-1756715400@www.stpaulsrcc.org
SUMMARY:Rosary
DESCRIPTION:
URL:https://www.stpaulsrcc.org/event/rosary/2025-09-01/
END:VEVENT
BEGIN:VEVENT
DTSTART;TZID=America/New_York:20250901T083000
DTEND;TZID=America/New_York:20250901T090000
DTSTAMP:20260425T221641
CREATED:20180902T234550Z
LAST-MODIFIED:20180902T234550Z
UID:114312-1756715400-1756717200@www.stpaulsrcc.org
SUMMARY:Mass
DESCRIPTION:
URL:https://www.stpaulsrcc.org/event/mass/2025-09-01/
END:VEVENT
BEGIN:VEVENT
DTSTART;TZID=America/New_York:20250902T080000
DTEND;TZID=America/New_York:20250902T083000
DTSTAMP:20260425T221641
CREATED:20180902T234259Z
LAST-MODIFIED:20180902T234259Z
UID:114315-1756800000-1756801800@www.stpaulsrcc.org
SUMMARY:Rosary
DESCRIPTION:
URL:https://www.stpaulsrcc.org/event/rosary/2025-09-02/
END:VEVENT
BEGIN:VEVENT
DTSTART;TZID=America/New_York:20250902T083000
DTEND;TZID=America/New_York:20250902T090000
DTSTAMP:20260425T221641
CREATED:20180902T234550Z
LAST-MODIFIED:20180902T234550Z
UID:114314-1756801800-1756803600@www.stpaulsrcc.org
SUMMARY:Mass
DESCRIPTION:
URL:https://www.stpaulsrcc.org/event/mass/2025-09-02/
END:VEVENT
BEGIN:VEVENT
DTSTART;TZID=America/New_York:20250903T080000
DTEND;TZID=America/New_York:20250903T083000
DTSTAMP:20260425T221641
CREATED:20180902T234259Z
LAST-MODIFIED:20180902T234259Z
UID:114319-1756886400-1756888200@www.stpaulsrcc.org
SUMMARY:Rosary
DESCRIPTION:
URL:https://www.stpaulsrcc.org/event/rosary/2025-09-03/
END:VEVENT
BEGIN:VEVENT
DTSTART;TZID=America/New_York:20250903T083000
DTEND;TZID=America/New_York:20250903T090000
DTSTAMP:20260425T221641
CREATED:20180902T234550Z
LAST-MODIFIED:20180902T234550Z
UID:114318-1756888200-1756890000@www.stpaulsrcc.org
SUMMARY:Mass
DESCRIPTION:
URL:https://www.stpaulsrcc.org/event/mass/2025-09-03/
END:VEVENT
BEGIN:VEVENT
DTSTART;TZID=America/New_York:20250903T090000
DTEND;TZID=America/New_York:20250903T100000
DTSTAMP:20260425T221641
CREATED:20180902T235249Z
LAST-MODIFIED:20180902T235249Z
UID:114317-1756890000-1756893600@www.stpaulsrcc.org
SUMMARY:Adoration
DESCRIPTION:
URL:https://www.stpaulsrcc.org/event/adoration/2025-09-03/
END:VEVENT
BEGIN:VEVENT
DTSTART;TZID=America/New_York:20250904T080000
DTEND;TZID=America/New_York:20250904T083000
DTSTAMP:20260425T221641
CREATED:20180902T234259Z
LAST-MODIFIED:20180902T234259Z
UID:114324-1756972800-1756974600@www.stpaulsrcc.org
SUMMARY:Rosary
DESCRIPTION:
URL:https://www.stpaulsrcc.org/event/rosary/2025-09-04/
END:VEVENT
BEGIN:VEVENT
DTSTART;TZID=America/New_York:20250904T083000
DTEND;TZID=America/New_York:20250904T090000
DTSTAMP:20260425T221641
CREATED:20180902T234550Z
LAST-MODIFIED:20180902T234550Z
UID:114323-1756974600-1756976400@www.stpaulsrcc.org
SUMMARY:Mass
DESCRIPTION:
URL:https://www.stpaulsrcc.org/event/mass/2025-09-04/
END:VEVENT
BEGIN:VEVENT
DTSTART;TZID=America/New_York:20250905T080000
DTEND;TZID=America/New_York:20250905T083000
DTSTAMP:20260425T221641
CREATED:20180902T234259Z
LAST-MODIFIED:20180902T234259Z
UID:114329-1757059200-1757061000@www.stpaulsrcc.org
SUMMARY:Rosary
DESCRIPTION:
URL:https://www.stpaulsrcc.org/event/rosary/2025-09-05/
END:VEVENT
BEGIN:VEVENT
DTSTART;TZID=America/New_York:20250905T083000
DTEND;TZID=America/New_York:20250905T090000
DTSTAMP:20260425T221641
CREATED:20180902T234809Z
LAST-MODIFIED:20180902T234809Z
UID:114328-1757061000-1757062800@www.stpaulsrcc.org
SUMMARY:Communion Service
DESCRIPTION:
URL:https://www.stpaulsrcc.org/event/communion-service/2025-09-05/
END:VEVENT
BEGIN:VEVENT
DTSTART;TZID=America/New_York:20250906T160000
DTEND;TZID=America/New_York:20250906T163000
DTSTAMP:20260425T221641
CREATED:20180902T235631Z
LAST-MODIFIED:20180902T235631Z
UID:114333-1757174400-1757176200@www.stpaulsrcc.org
SUMMARY:Confession
DESCRIPTION:
URL:https://www.stpaulsrcc.org/event/confession/2025-09-06/
END:VEVENT
BEGIN:VEVENT
DTSTART;TZID=America/New_York:20250906T170000
DTEND;TZID=America/New_York:20250906T170000
DTSTAMP:20260425T221641
CREATED:20180822T184844Z
LAST-MODIFIED:20180822T184844Z
UID:114332-1757178000-1757178000@www.stpaulsrcc.org
SUMMARY:5:00 pm Mass
DESCRIPTION:
URL:https://www.stpaulsrcc.org/event/500-mass/2025-09-06/
END:VEVENT
BEGIN:VEVENT
DTSTART;TZID=America/New_York:20250907T090000
DTEND;TZID=America/New_York:20250907T100000
DTSTAMP:20260425T221641
CREATED:20180919T155747Z
LAST-MODIFIED:20180919T155747Z
UID:114335-1757235600-1757239200@www.stpaulsrcc.org
SUMMARY:9:00 am Mass
DESCRIPTION:
URL:https://www.stpaulsrcc.org/event/900-mass/2025-09-07/
END:VEVENT
BEGIN:VEVENT
DTSTART;TZID=America/New_York:20250907T110000
DTEND;TZID=America/New_York:20250907T110000
DTSTAMP:20260425T221641
CREATED:20180919T173655Z
LAST-MODIFIED:20180919T173655Z
UID:114336-1757242800-1757242800@www.stpaulsrcc.org
SUMMARY:11:00 am Mass
DESCRIPTION:
URL:https://www.stpaulsrcc.org/event/1100-mass/2025-09-07/
END:VEVENT
BEGIN:VEVENT
DTSTART;TZID=America/New_York:20250908T080000
DTEND;TZID=America/New_York:20250908T083000
DTSTAMP:20260425T221641
CREATED:20180902T234259Z
LAST-MODIFIED:20180902T234259Z
UID:114338-1757318400-1757320200@www.stpaulsrcc.org
SUMMARY:Rosary
DESCRIPTION:
URL:https://www.stpaulsrcc.org/event/rosary/2025-09-08/
END:VEVENT
BEGIN:VEVENT
DTSTART;TZID=America/New_York:20250908T083000
DTEND;TZID=America/New_York:20250908T090000
DTSTAMP:20260425T221641
CREATED:20180902T234550Z
LAST-MODIFIED:20180902T234550Z
UID:114337-1757320200-1757322000@www.stpaulsrcc.org
SUMMARY:Mass
DESCRIPTION:
URL:https://www.stpaulsrcc.org/event/mass/2025-09-08/
END:VEVENT
BEGIN:VEVENT
DTSTART;TZID=America/New_York:20250909T080000
DTEND;TZID=America/New_York:20250909T083000
DTSTAMP:20260425T221641
CREATED:20180902T234259Z
LAST-MODIFIED:20180902T234259Z
UID:114341-1757404800-1757406600@www.stpaulsrcc.org
SUMMARY:Rosary
DESCRIPTION:
URL:https://www.stpaulsrcc.org/event/rosary/2025-09-09/
END:VEVENT
BEGIN:VEVENT
DTSTART;TZID=America/New_York:20250909T083000
DTEND;TZID=America/New_York:20250909T090000
DTSTAMP:20260425T221641
CREATED:20180902T234550Z
LAST-MODIFIED:20180902T234550Z
UID:114340-1757406600-1757408400@www.stpaulsrcc.org
SUMMARY:Mass
DESCRIPTION:
URL:https://www.stpaulsrcc.org/event/mass/2025-09-09/
END:VEVENT
BEGIN:VEVENT
DTSTART;TZID=America/New_York:20250910T080000
DTEND;TZID=America/New_York:20250910T083000
DTSTAMP:20260425T221641
CREATED:20180902T234259Z
LAST-MODIFIED:20180902T234259Z
UID:114346-1757491200-1757493000@www.stpaulsrcc.org
SUMMARY:Rosary
DESCRIPTION:
URL:https://www.stpaulsrcc.org/event/rosary/2025-09-10/
END:VEVENT
BEGIN:VEVENT
DTSTART;TZID=America/New_York:20250910T083000
DTEND;TZID=America/New_York:20250910T090000
DTSTAMP:20260425T221641
CREATED:20180902T234550Z
LAST-MODIFIED:20180902T234550Z
UID:114345-1757493000-1757494800@www.stpaulsrcc.org
SUMMARY:Mass
DESCRIPTION:
URL:https://www.stpaulsrcc.org/event/mass/2025-09-10/
END:VEVENT
BEGIN:VEVENT
DTSTART;TZID=America/New_York:20250910T090000
DTEND;TZID=America/New_York:20250910T100000
DTSTAMP:20260425T221641
CREATED:20180902T235249Z
LAST-MODIFIED:20180902T235249Z
UID:114344-1757494800-1757498400@www.stpaulsrcc.org
SUMMARY:Adoration
DESCRIPTION:
URL:https://www.stpaulsrcc.org/event/adoration/2025-09-10/
END:VEVENT
BEGIN:VEVENT
DTSTART;TZID=America/New_York:20250911T080000
DTEND;TZID=America/New_York:20250911T083000
DTSTAMP:20260425T221641
CREATED:20180902T234259Z
LAST-MODIFIED:20180902T234259Z
UID:114348-1757577600-1757579400@www.stpaulsrcc.org
SUMMARY:Rosary
DESCRIPTION:
URL:https://www.stpaulsrcc.org/event/rosary/2025-09-11/
END:VEVENT
BEGIN:VEVENT
DTSTART;TZID=America/New_York:20250911T083000
DTEND;TZID=America/New_York:20250911T090000
DTSTAMP:20260425T221641
CREATED:20180902T234550Z
LAST-MODIFIED:20180902T234550Z
UID:114347-1757579400-1757581200@www.stpaulsrcc.org
SUMMARY:Mass
DESCRIPTION:
URL:https://www.stpaulsrcc.org/event/mass/2025-09-11/
END:VEVENT
BEGIN:VEVENT
DTSTART;TZID=America/New_York:20250912T080000
DTEND;TZID=America/New_York:20250912T083000
DTSTAMP:20260425T221641
CREATED:20180902T234259Z
LAST-MODIFIED:20180902T234259Z
UID:114350-1757664000-1757665800@www.stpaulsrcc.org
SUMMARY:Rosary
DESCRIPTION:
URL:https://www.stpaulsrcc.org/event/rosary/2025-09-12/
END:VEVENT
BEGIN:VEVENT
DTSTART;TZID=America/New_York:20250912T083000
DTEND;TZID=America/New_York:20250912T090000
DTSTAMP:20260425T221641
CREATED:20180902T234809Z
LAST-MODIFIED:20180902T234809Z
UID:114349-1757665800-1757667600@www.stpaulsrcc.org
SUMMARY:Communion Service
DESCRIPTION:
URL:https://www.stpaulsrcc.org/event/communion-service/2025-09-12/
END:VEVENT
BEGIN:VEVENT
DTSTART;TZID=America/New_York:20250913T160000
DTEND;TZID=America/New_York:20250913T163000
DTSTAMP:20260425T221641
CREATED:20180902T235631Z
LAST-MODIFIED:20180902T235631Z
UID:114359-1757779200-1757781000@www.stpaulsrcc.org
SUMMARY:Confession
DESCRIPTION:
URL:https://www.stpaulsrcc.org/event/confession/2025-09-13/
END:VEVENT
BEGIN:VEVENT
DTSTART;TZID=America/New_York:20250913T170000
DTEND;TZID=America/New_York:20250913T170000
DTSTAMP:20260425T221641
CREATED:20180822T184844Z
LAST-MODIFIED:20180822T184844Z
UID:114358-1757782800-1757782800@www.stpaulsrcc.org
SUMMARY:5:00 pm Mass
DESCRIPTION:
URL:https://www.stpaulsrcc.org/event/500-mass/2025-09-13/
END:VEVENT
BEGIN:VEVENT
DTSTART;TZID=America/New_York:20250914T090000
DTEND;TZID=America/New_York:20250914T100000
DTSTAMP:20260425T221641
CREATED:20180919T155747Z
LAST-MODIFIED:20180919T155747Z
UID:114361-1757840400-1757844000@www.stpaulsrcc.org
SUMMARY:9:00 am Mass
DESCRIPTION:
URL:https://www.stpaulsrcc.org/event/900-mass/2025-09-14/
END:VEVENT
BEGIN:VEVENT
DTSTART;TZID=America/New_York:20250914T110000
DTEND;TZID=America/New_York:20250914T110000
DTSTAMP:20260425T221641
CREATED:20180919T173655Z
LAST-MODIFIED:20180919T173655Z
UID:114362-1757847600-1757847600@www.stpaulsrcc.org
SUMMARY:11:00 am Mass
DESCRIPTION:
URL:https://www.stpaulsrcc.org/event/1100-mass/2025-09-14/
END:VEVENT
END:VCALENDAR