BEGIN:VCALENDAR
VERSION:2.0
PRODID:-//St. Paul&#039;s Roman Catholic Church - ECPv6.15.20//NONSGML v1.0//EN
CALSCALE:GREGORIAN
METHOD:PUBLISH
X-WR-CALNAME:St. Paul&#039;s Roman Catholic Church
X-ORIGINAL-URL:https://www.stpaulsrcc.org
X-WR-CALDESC:Events for St. Paul&#039;s Roman Catholic Church
REFRESH-INTERVAL;VALUE=DURATION:PT1H
X-Robots-Tag:noindex
X-PUBLISHED-TTL:PT1H
BEGIN:VTIMEZONE
TZID:America/New_York
BEGIN:DAYLIGHT
TZOFFSETFROM:-0500
TZOFFSETTO:-0400
TZNAME:EDT
DTSTART:20240310T070000
END:DAYLIGHT
BEGIN:STANDARD
TZOFFSETFROM:-0400
TZOFFSETTO:-0500
TZNAME:EST
DTSTART:20241103T060000
END:STANDARD
BEGIN:DAYLIGHT
TZOFFSETFROM:-0500
TZOFFSETTO:-0400
TZNAME:EDT
DTSTART:20250309T070000
END:DAYLIGHT
BEGIN:STANDARD
TZOFFSETFROM:-0400
TZOFFSETTO:-0500
TZNAME:EST
DTSTART:20251102T060000
END:STANDARD
BEGIN:DAYLIGHT
TZOFFSETFROM:-0500
TZOFFSETTO:-0400
TZNAME:EDT
DTSTART:20260308T070000
END:DAYLIGHT
BEGIN:STANDARD
TZOFFSETFROM:-0400
TZOFFSETTO:-0500
TZNAME:EST
DTSTART:20261101T060000
END:STANDARD
END:VTIMEZONE
BEGIN:VEVENT
DTSTART;TZID=America/New_York:20251001T080000
DTEND;TZID=America/New_York:20251001T083000
DTSTAMP:20260425T203408
CREATED:20180902T234259Z
LAST-MODIFIED:20180902T234259Z
UID:114442-1759305600-1759307400@www.stpaulsrcc.org
SUMMARY:Rosary
DESCRIPTION:
URL:https://www.stpaulsrcc.org/event/rosary/2025-10-01/
END:VEVENT
BEGIN:VEVENT
DTSTART;TZID=America/New_York:20251001T083000
DTEND;TZID=America/New_York:20251001T090000
DTSTAMP:20260425T203408
CREATED:20180902T234550Z
LAST-MODIFIED:20180902T234550Z
UID:114441-1759307400-1759309200@www.stpaulsrcc.org
SUMMARY:Mass
DESCRIPTION:
URL:https://www.stpaulsrcc.org/event/mass/2025-10-01/
END:VEVENT
BEGIN:VEVENT
DTSTART;TZID=America/New_York:20251001T090000
DTEND;TZID=America/New_York:20251001T100000
DTSTAMP:20260425T203408
CREATED:20180902T235249Z
LAST-MODIFIED:20180902T235249Z
UID:114440-1759309200-1759312800@www.stpaulsrcc.org
SUMMARY:Adoration
DESCRIPTION:
URL:https://www.stpaulsrcc.org/event/adoration/2025-10-01/
END:VEVENT
BEGIN:VEVENT
DTSTART;TZID=America/New_York:20251002T080000
DTEND;TZID=America/New_York:20251002T083000
DTSTAMP:20260425T203408
CREATED:20180902T234259Z
LAST-MODIFIED:20180902T234259Z
UID:114448-1759392000-1759393800@www.stpaulsrcc.org
SUMMARY:Rosary
DESCRIPTION:
URL:https://www.stpaulsrcc.org/event/rosary/2025-10-02/
END:VEVENT
BEGIN:VEVENT
DTSTART;TZID=America/New_York:20251002T083000
DTEND;TZID=America/New_York:20251002T090000
DTSTAMP:20260425T203408
CREATED:20180902T234550Z
LAST-MODIFIED:20180902T234550Z
UID:114447-1759393800-1759395600@www.stpaulsrcc.org
SUMMARY:Mass
DESCRIPTION:
URL:https://www.stpaulsrcc.org/event/mass/2025-10-02/
END:VEVENT
BEGIN:VEVENT
DTSTART;TZID=America/New_York:20251003T080000
DTEND;TZID=America/New_York:20251003T083000
DTSTAMP:20260425T203408
CREATED:20180902T234259Z
LAST-MODIFIED:20180902T234259Z
UID:114451-1759478400-1759480200@www.stpaulsrcc.org
SUMMARY:Rosary
DESCRIPTION:
URL:https://www.stpaulsrcc.org/event/rosary/2025-10-03/
END:VEVENT
BEGIN:VEVENT
DTSTART;TZID=America/New_York:20251003T083000
DTEND;TZID=America/New_York:20251003T090000
DTSTAMP:20260425T203408
CREATED:20180902T234809Z
LAST-MODIFIED:20180902T234809Z
UID:114450-1759480200-1759482000@www.stpaulsrcc.org
SUMMARY:Communion Service
DESCRIPTION:
URL:https://www.stpaulsrcc.org/event/communion-service/2025-10-03/
END:VEVENT
BEGIN:VEVENT
DTSTART;TZID=America/New_York:20251004T160000
DTEND;TZID=America/New_York:20251004T163000
DTSTAMP:20260425T203408
CREATED:20180902T235631Z
LAST-MODIFIED:20180902T235631Z
UID:114469-1759593600-1759595400@www.stpaulsrcc.org
SUMMARY:Confession
DESCRIPTION:
URL:https://www.stpaulsrcc.org/event/confession/2025-10-04/
END:VEVENT
BEGIN:VEVENT
DTSTART;TZID=America/New_York:20251004T170000
DTEND;TZID=America/New_York:20251004T170000
DTSTAMP:20260425T203408
CREATED:20180822T184844Z
LAST-MODIFIED:20180822T184844Z
UID:114468-1759597200-1759597200@www.stpaulsrcc.org
SUMMARY:5:00 pm Mass
DESCRIPTION:
URL:https://www.stpaulsrcc.org/event/500-mass/2025-10-04/
END:VEVENT
BEGIN:VEVENT
DTSTART;TZID=America/New_York:20251005T090000
DTEND;TZID=America/New_York:20251005T100000
DTSTAMP:20260425T203408
CREATED:20180919T155747Z
LAST-MODIFIED:20180919T155747Z
UID:114472-1759654800-1759658400@www.stpaulsrcc.org
SUMMARY:9:00 am Mass
DESCRIPTION:
URL:https://www.stpaulsrcc.org/event/900-mass/2025-10-05/
END:VEVENT
BEGIN:VEVENT
DTSTART;TZID=America/New_York:20251005T110000
DTEND;TZID=America/New_York:20251005T110000
DTSTAMP:20260425T203408
CREATED:20180919T173655Z
LAST-MODIFIED:20180919T173655Z
UID:114473-1759662000-1759662000@www.stpaulsrcc.org
SUMMARY:11:00 am Mass
DESCRIPTION:
URL:https://www.stpaulsrcc.org/event/1100-mass/2025-10-05/
END:VEVENT
BEGIN:VEVENT
DTSTART;TZID=America/New_York:20251006T080000
DTEND;TZID=America/New_York:20251006T083000
DTSTAMP:20260425T203408
CREATED:20180902T234259Z
LAST-MODIFIED:20180902T234259Z
UID:114475-1759737600-1759739400@www.stpaulsrcc.org
SUMMARY:Rosary
DESCRIPTION:
URL:https://www.stpaulsrcc.org/event/rosary/2025-10-06/
END:VEVENT
BEGIN:VEVENT
DTSTART;TZID=America/New_York:20251006T083000
DTEND;TZID=America/New_York:20251006T090000
DTSTAMP:20260425T203408
CREATED:20180902T234550Z
LAST-MODIFIED:20180902T234550Z
UID:114474-1759739400-1759741200@www.stpaulsrcc.org
SUMMARY:Mass
DESCRIPTION:
URL:https://www.stpaulsrcc.org/event/mass/2025-10-06/
END:VEVENT
BEGIN:VEVENT
DTSTART;TZID=America/New_York:20251007T080000
DTEND;TZID=America/New_York:20251007T083000
DTSTAMP:20260425T203408
CREATED:20180902T234259Z
LAST-MODIFIED:20180902T234259Z
UID:114477-1759824000-1759825800@www.stpaulsrcc.org
SUMMARY:Rosary
DESCRIPTION:
URL:https://www.stpaulsrcc.org/event/rosary/2025-10-07/
END:VEVENT
BEGIN:VEVENT
DTSTART;TZID=America/New_York:20251007T083000
DTEND;TZID=America/New_York:20251007T090000
DTSTAMP:20260425T203408
CREATED:20180902T234550Z
LAST-MODIFIED:20180902T234550Z
UID:114476-1759825800-1759827600@www.stpaulsrcc.org
SUMMARY:Mass
DESCRIPTION:
URL:https://www.stpaulsrcc.org/event/mass/2025-10-07/
END:VEVENT
BEGIN:VEVENT
DTSTART;TZID=America/New_York:20251008T080000
DTEND;TZID=America/New_York:20251008T083000
DTSTAMP:20260425T203408
CREATED:20180902T234259Z
LAST-MODIFIED:20180902T234259Z
UID:114481-1759910400-1759912200@www.stpaulsrcc.org
SUMMARY:Rosary
DESCRIPTION:
URL:https://www.stpaulsrcc.org/event/rosary/2025-10-08/
END:VEVENT
BEGIN:VEVENT
DTSTART;TZID=America/New_York:20251008T083000
DTEND;TZID=America/New_York:20251008T090000
DTSTAMP:20260425T203408
CREATED:20180902T234550Z
LAST-MODIFIED:20180902T234550Z
UID:114480-1759912200-1759914000@www.stpaulsrcc.org
SUMMARY:Mass
DESCRIPTION:
URL:https://www.stpaulsrcc.org/event/mass/2025-10-08/
END:VEVENT
BEGIN:VEVENT
DTSTART;TZID=America/New_York:20251008T090000
DTEND;TZID=America/New_York:20251008T100000
DTSTAMP:20260425T203408
CREATED:20180902T235249Z
LAST-MODIFIED:20180902T235249Z
UID:114479-1759914000-1759917600@www.stpaulsrcc.org
SUMMARY:Adoration
DESCRIPTION:
URL:https://www.stpaulsrcc.org/event/adoration/2025-10-08/
END:VEVENT
BEGIN:VEVENT
DTSTART;TZID=America/New_York:20251009T080000
DTEND;TZID=America/New_York:20251009T083000
DTSTAMP:20260425T203408
CREATED:20180902T234259Z
LAST-MODIFIED:20180902T234259Z
UID:114487-1759996800-1759998600@www.stpaulsrcc.org
SUMMARY:Rosary
DESCRIPTION:
URL:https://www.stpaulsrcc.org/event/rosary/2025-10-09/
END:VEVENT
BEGIN:VEVENT
DTSTART;TZID=America/New_York:20251009T083000
DTEND;TZID=America/New_York:20251009T090000
DTSTAMP:20260425T203408
CREATED:20180902T234550Z
LAST-MODIFIED:20180902T234550Z
UID:114486-1759998600-1760000400@www.stpaulsrcc.org
SUMMARY:Mass
DESCRIPTION:
URL:https://www.stpaulsrcc.org/event/mass/2025-10-09/
END:VEVENT
BEGIN:VEVENT
DTSTART;TZID=America/New_York:20251010T080000
DTEND;TZID=America/New_York:20251010T083000
DTSTAMP:20260425T203408
CREATED:20180902T234259Z
LAST-MODIFIED:20180902T234259Z
UID:114489-1760083200-1760085000@www.stpaulsrcc.org
SUMMARY:Rosary
DESCRIPTION:
URL:https://www.stpaulsrcc.org/event/rosary/2025-10-10/
END:VEVENT
BEGIN:VEVENT
DTSTART;TZID=America/New_York:20251010T083000
DTEND;TZID=America/New_York:20251010T090000
DTSTAMP:20260425T203408
CREATED:20180902T234809Z
LAST-MODIFIED:20180902T234809Z
UID:114488-1760085000-1760086800@www.stpaulsrcc.org
SUMMARY:Communion Service
DESCRIPTION:
URL:https://www.stpaulsrcc.org/event/communion-service/2025-10-10/
END:VEVENT
BEGIN:VEVENT
DTSTART;TZID=America/New_York:20251011T160000
DTEND;TZID=America/New_York:20251011T163000
DTSTAMP:20260425T203408
CREATED:20180902T235631Z
LAST-MODIFIED:20180902T235631Z
UID:114494-1760198400-1760200200@www.stpaulsrcc.org
SUMMARY:Confession
DESCRIPTION:
URL:https://www.stpaulsrcc.org/event/confession/2025-10-11/
END:VEVENT
BEGIN:VEVENT
DTSTART;TZID=America/New_York:20251011T170000
DTEND;TZID=America/New_York:20251011T170000
DTSTAMP:20260425T203408
CREATED:20180822T184844Z
LAST-MODIFIED:20180822T184844Z
UID:114493-1760202000-1760202000@www.stpaulsrcc.org
SUMMARY:5:00 pm Mass
DESCRIPTION:
URL:https://www.stpaulsrcc.org/event/500-mass/2025-10-11/
END:VEVENT
BEGIN:VEVENT
DTSTART;TZID=America/New_York:20251012T090000
DTEND;TZID=America/New_York:20251012T100000
DTSTAMP:20260425T203408
CREATED:20180919T155747Z
LAST-MODIFIED:20180919T155747Z
UID:114496-1760259600-1760263200@www.stpaulsrcc.org
SUMMARY:9:00 am Mass
DESCRIPTION:
URL:https://www.stpaulsrcc.org/event/900-mass/2025-10-12/
END:VEVENT
BEGIN:VEVENT
DTSTART;TZID=America/New_York:20251012T110000
DTEND;TZID=America/New_York:20251012T110000
DTSTAMP:20260425T203408
CREATED:20180919T173655Z
LAST-MODIFIED:20180919T173655Z
UID:114497-1760266800-1760266800@www.stpaulsrcc.org
SUMMARY:11:00 am Mass
DESCRIPTION:
URL:https://www.stpaulsrcc.org/event/1100-mass/2025-10-12/
END:VEVENT
BEGIN:VEVENT
DTSTART;TZID=America/New_York:20251013T080000
DTEND;TZID=America/New_York:20251013T083000
DTSTAMP:20260425T203408
CREATED:20180902T234259Z
LAST-MODIFIED:20180902T234259Z
UID:114499-1760342400-1760344200@www.stpaulsrcc.org
SUMMARY:Rosary
DESCRIPTION:
URL:https://www.stpaulsrcc.org/event/rosary/2025-10-13/
END:VEVENT
BEGIN:VEVENT
DTSTART;TZID=America/New_York:20251013T083000
DTEND;TZID=America/New_York:20251013T090000
DTSTAMP:20260425T203408
CREATED:20180902T234550Z
LAST-MODIFIED:20180902T234550Z
UID:114498-1760344200-1760346000@www.stpaulsrcc.org
SUMMARY:Mass
DESCRIPTION:
URL:https://www.stpaulsrcc.org/event/mass/2025-10-13/
END:VEVENT
BEGIN:VEVENT
DTSTART;TZID=America/New_York:20251014T080000
DTEND;TZID=America/New_York:20251014T083000
DTSTAMP:20260425T203408
CREATED:20180902T234259Z
LAST-MODIFIED:20180902T234259Z
UID:114501-1760428800-1760430600@www.stpaulsrcc.org
SUMMARY:Rosary
DESCRIPTION:
URL:https://www.stpaulsrcc.org/event/rosary/2025-10-14/
END:VEVENT
BEGIN:VEVENT
DTSTART;TZID=America/New_York:20251014T083000
DTEND;TZID=America/New_York:20251014T090000
DTSTAMP:20260425T203408
CREATED:20180902T234550Z
LAST-MODIFIED:20180902T234550Z
UID:114500-1760430600-1760432400@www.stpaulsrcc.org
SUMMARY:Mass
DESCRIPTION:
URL:https://www.stpaulsrcc.org/event/mass/2025-10-14/
END:VEVENT
END:VCALENDAR