BEGIN:VCALENDAR
VERSION:2.0
PRODID:-//St. Paul&#039;s Roman Catholic Church - ECPv6.15.20//NONSGML v1.0//EN
CALSCALE:GREGORIAN
METHOD:PUBLISH
X-WR-CALNAME:St. Paul&#039;s Roman Catholic Church
X-ORIGINAL-URL:https://www.stpaulsrcc.org
X-WR-CALDESC:Events for St. Paul&#039;s Roman Catholic Church
REFRESH-INTERVAL;VALUE=DURATION:PT1H
X-Robots-Tag:noindex
X-PUBLISHED-TTL:PT1H
BEGIN:VTIMEZONE
TZID:America/New_York
BEGIN:DAYLIGHT
TZOFFSETFROM:-0500
TZOFFSETTO:-0400
TZNAME:EDT
DTSTART:20240310T070000
END:DAYLIGHT
BEGIN:STANDARD
TZOFFSETFROM:-0400
TZOFFSETTO:-0500
TZNAME:EST
DTSTART:20241103T060000
END:STANDARD
BEGIN:DAYLIGHT
TZOFFSETFROM:-0500
TZOFFSETTO:-0400
TZNAME:EDT
DTSTART:20250309T070000
END:DAYLIGHT
BEGIN:STANDARD
TZOFFSETFROM:-0400
TZOFFSETTO:-0500
TZNAME:EST
DTSTART:20251102T060000
END:STANDARD
BEGIN:DAYLIGHT
TZOFFSETFROM:-0500
TZOFFSETTO:-0400
TZNAME:EDT
DTSTART:20260308T070000
END:DAYLIGHT
BEGIN:STANDARD
TZOFFSETFROM:-0400
TZOFFSETTO:-0500
TZNAME:EST
DTSTART:20261101T060000
END:STANDARD
END:VTIMEZONE
BEGIN:VEVENT
DTSTART;TZID=America/New_York:20251201T080000
DTEND;TZID=America/New_York:20251201T083000
DTSTAMP:20260425T170959
CREATED:20180902T234259Z
LAST-MODIFIED:20180902T234259Z
UID:114672-1764576000-1764577800@www.stpaulsrcc.org
SUMMARY:Rosary
DESCRIPTION:
URL:https://www.stpaulsrcc.org/event/rosary/2025-12-01/
END:VEVENT
BEGIN:VEVENT
DTSTART;TZID=America/New_York:20251201T083000
DTEND;TZID=America/New_York:20251201T090000
DTSTAMP:20260425T170959
CREATED:20180902T234550Z
LAST-MODIFIED:20180902T234550Z
UID:114671-1764577800-1764579600@www.stpaulsrcc.org
SUMMARY:Mass
DESCRIPTION:
URL:https://www.stpaulsrcc.org/event/mass/2025-12-01/
END:VEVENT
BEGIN:VEVENT
DTSTART;TZID=America/New_York:20251202T080000
DTEND;TZID=America/New_York:20251202T083000
DTSTAMP:20260425T170959
CREATED:20180902T234259Z
LAST-MODIFIED:20180902T234259Z
UID:114674-1764662400-1764664200@www.stpaulsrcc.org
SUMMARY:Rosary
DESCRIPTION:
URL:https://www.stpaulsrcc.org/event/rosary/2025-12-02/
END:VEVENT
BEGIN:VEVENT
DTSTART;TZID=America/New_York:20251202T083000
DTEND;TZID=America/New_York:20251202T090000
DTSTAMP:20260425T170959
CREATED:20180902T234550Z
LAST-MODIFIED:20180902T234550Z
UID:114673-1764664200-1764666000@www.stpaulsrcc.org
SUMMARY:Mass
DESCRIPTION:
URL:https://www.stpaulsrcc.org/event/mass/2025-12-02/
END:VEVENT
BEGIN:VEVENT
DTSTART;TZID=America/New_York:20251203T080000
DTEND;TZID=America/New_York:20251203T083000
DTSTAMP:20260425T170959
CREATED:20180902T234259Z
LAST-MODIFIED:20180902T234259Z
UID:114678-1764748800-1764750600@www.stpaulsrcc.org
SUMMARY:Rosary
DESCRIPTION:
URL:https://www.stpaulsrcc.org/event/rosary/2025-12-03/
END:VEVENT
BEGIN:VEVENT
DTSTART;TZID=America/New_York:20251203T083000
DTEND;TZID=America/New_York:20251203T090000
DTSTAMP:20260425T170959
CREATED:20180902T234550Z
LAST-MODIFIED:20180902T234550Z
UID:114677-1764750600-1764752400@www.stpaulsrcc.org
SUMMARY:Mass
DESCRIPTION:
URL:https://www.stpaulsrcc.org/event/mass/2025-12-03/
END:VEVENT
BEGIN:VEVENT
DTSTART;TZID=America/New_York:20251203T090000
DTEND;TZID=America/New_York:20251203T100000
DTSTAMP:20260425T170959
CREATED:20180902T235249Z
LAST-MODIFIED:20180902T235249Z
UID:114676-1764752400-1764756000@www.stpaulsrcc.org
SUMMARY:Adoration
DESCRIPTION:
URL:https://www.stpaulsrcc.org/event/adoration/2025-12-03/
END:VEVENT
BEGIN:VEVENT
DTSTART;TZID=America/New_York:20251204T080000
DTEND;TZID=America/New_York:20251204T083000
DTSTAMP:20260425T170959
CREATED:20180902T234259Z
LAST-MODIFIED:20180902T234259Z
UID:114688-1764835200-1764837000@www.stpaulsrcc.org
SUMMARY:Rosary
DESCRIPTION:
URL:https://www.stpaulsrcc.org/event/rosary/2025-12-04/
END:VEVENT
BEGIN:VEVENT
DTSTART;TZID=America/New_York:20251204T083000
DTEND;TZID=America/New_York:20251204T090000
DTSTAMP:20260425T170959
CREATED:20180902T234550Z
LAST-MODIFIED:20180902T234550Z
UID:114687-1764837000-1764838800@www.stpaulsrcc.org
SUMMARY:Mass
DESCRIPTION:
URL:https://www.stpaulsrcc.org/event/mass/2025-12-04/
END:VEVENT
BEGIN:VEVENT
DTSTART;TZID=America/New_York:20251205T080000
DTEND;TZID=America/New_York:20251205T083000
DTSTAMP:20260425T170959
CREATED:20180902T234259Z
LAST-MODIFIED:20180902T234259Z
UID:114692-1764921600-1764923400@www.stpaulsrcc.org
SUMMARY:Rosary
DESCRIPTION:
URL:https://www.stpaulsrcc.org/event/rosary/2025-12-05/
END:VEVENT
BEGIN:VEVENT
DTSTART;TZID=America/New_York:20251205T083000
DTEND;TZID=America/New_York:20251205T090000
DTSTAMP:20260425T170959
CREATED:20180902T234809Z
LAST-MODIFIED:20180902T234809Z
UID:114691-1764923400-1764925200@www.stpaulsrcc.org
SUMMARY:Communion Service
DESCRIPTION:
URL:https://www.stpaulsrcc.org/event/communion-service/2025-12-05/
END:VEVENT
BEGIN:VEVENT
DTSTART;TZID=America/New_York:20251206T160000
DTEND;TZID=America/New_York:20251206T163000
DTSTAMP:20260425T170959
CREATED:20180902T235631Z
LAST-MODIFIED:20180902T235631Z
UID:114696-1765036800-1765038600@www.stpaulsrcc.org
SUMMARY:Confession
DESCRIPTION:
URL:https://www.stpaulsrcc.org/event/confession/2025-12-06/
END:VEVENT
BEGIN:VEVENT
DTSTART;TZID=America/New_York:20251206T170000
DTEND;TZID=America/New_York:20251206T170000
DTSTAMP:20260425T170959
CREATED:20180822T184844Z
LAST-MODIFIED:20180822T184844Z
UID:114695-1765040400-1765040400@www.stpaulsrcc.org
SUMMARY:5:00 pm Mass
DESCRIPTION:
URL:https://www.stpaulsrcc.org/event/500-mass/2025-12-06/
END:VEVENT
BEGIN:VEVENT
DTSTART;TZID=America/New_York:20251207T090000
DTEND;TZID=America/New_York:20251207T100000
DTSTAMP:20260425T170959
CREATED:20180919T155747Z
LAST-MODIFIED:20180919T155747Z
UID:114701-1765098000-1765101600@www.stpaulsrcc.org
SUMMARY:9:00 am Mass
DESCRIPTION:
URL:https://www.stpaulsrcc.org/event/900-mass/2025-12-07/
END:VEVENT
BEGIN:VEVENT
DTSTART;TZID=America/New_York:20251207T110000
DTEND;TZID=America/New_York:20251207T110000
DTSTAMP:20260425T170959
CREATED:20180919T173655Z
LAST-MODIFIED:20180919T173655Z
UID:114702-1765105200-1765105200@www.stpaulsrcc.org
SUMMARY:11:00 am Mass
DESCRIPTION:
URL:https://www.stpaulsrcc.org/event/1100-mass/2025-12-07/
END:VEVENT
BEGIN:VEVENT
DTSTART;TZID=America/New_York:20251208T080000
DTEND;TZID=America/New_York:20251208T083000
DTSTAMP:20260425T170959
CREATED:20180902T234259Z
LAST-MODIFIED:20180902T234259Z
UID:114704-1765180800-1765182600@www.stpaulsrcc.org
SUMMARY:Rosary
DESCRIPTION:
URL:https://www.stpaulsrcc.org/event/rosary/2025-12-08/
END:VEVENT
BEGIN:VEVENT
DTSTART;TZID=America/New_York:20251208T083000
DTEND;TZID=America/New_York:20251208T090000
DTSTAMP:20260425T170959
CREATED:20180902T234550Z
LAST-MODIFIED:20180902T234550Z
UID:114703-1765182600-1765184400@www.stpaulsrcc.org
SUMMARY:Mass
DESCRIPTION:
URL:https://www.stpaulsrcc.org/event/mass/2025-12-08/
END:VEVENT
BEGIN:VEVENT
DTSTART;TZID=America/New_York:20251209T080000
DTEND;TZID=America/New_York:20251209T083000
DTSTAMP:20260425T170959
CREATED:20180902T234259Z
LAST-MODIFIED:20180902T234259Z
UID:114706-1765267200-1765269000@www.stpaulsrcc.org
SUMMARY:Rosary
DESCRIPTION:
URL:https://www.stpaulsrcc.org/event/rosary/2025-12-09/
END:VEVENT
BEGIN:VEVENT
DTSTART;TZID=America/New_York:20251209T083000
DTEND;TZID=America/New_York:20251209T090000
DTSTAMP:20260425T170959
CREATED:20180902T234550Z
LAST-MODIFIED:20180902T234550Z
UID:114705-1765269000-1765270800@www.stpaulsrcc.org
SUMMARY:Mass
DESCRIPTION:
URL:https://www.stpaulsrcc.org/event/mass/2025-12-09/
END:VEVENT
BEGIN:VEVENT
DTSTART;TZID=America/New_York:20251210T080000
DTEND;TZID=America/New_York:20251210T083000
DTSTAMP:20260425T170959
CREATED:20180902T234259Z
LAST-MODIFIED:20180902T234259Z
UID:114714-1765353600-1765355400@www.stpaulsrcc.org
SUMMARY:Rosary
DESCRIPTION:
URL:https://www.stpaulsrcc.org/event/rosary/2025-12-10/
END:VEVENT
BEGIN:VEVENT
DTSTART;TZID=America/New_York:20251210T083000
DTEND;TZID=America/New_York:20251210T090000
DTSTAMP:20260425T170959
CREATED:20180902T234550Z
LAST-MODIFIED:20180902T234550Z
UID:114713-1765355400-1765357200@www.stpaulsrcc.org
SUMMARY:Mass
DESCRIPTION:
URL:https://www.stpaulsrcc.org/event/mass/2025-12-10/
END:VEVENT
BEGIN:VEVENT
DTSTART;TZID=America/New_York:20251210T090000
DTEND;TZID=America/New_York:20251210T100000
DTSTAMP:20260425T170959
CREATED:20180902T235249Z
LAST-MODIFIED:20180902T235249Z
UID:114712-1765357200-1765360800@www.stpaulsrcc.org
SUMMARY:Adoration
DESCRIPTION:
URL:https://www.stpaulsrcc.org/event/adoration/2025-12-10/
END:VEVENT
BEGIN:VEVENT
DTSTART;TZID=America/New_York:20251211T080000
DTEND;TZID=America/New_York:20251211T083000
DTSTAMP:20260425T170959
CREATED:20180902T234259Z
LAST-MODIFIED:20180902T234259Z
UID:114716-1765440000-1765441800@www.stpaulsrcc.org
SUMMARY:Rosary
DESCRIPTION:
URL:https://www.stpaulsrcc.org/event/rosary/2025-12-11/
END:VEVENT
BEGIN:VEVENT
DTSTART;TZID=America/New_York:20251211T083000
DTEND;TZID=America/New_York:20251211T090000
DTSTAMP:20260425T170959
CREATED:20180902T234550Z
LAST-MODIFIED:20180902T234550Z
UID:114715-1765441800-1765443600@www.stpaulsrcc.org
SUMMARY:Mass
DESCRIPTION:
URL:https://www.stpaulsrcc.org/event/mass/2025-12-11/
END:VEVENT
BEGIN:VEVENT
DTSTART;TZID=America/New_York:20251212T080000
DTEND;TZID=America/New_York:20251212T083000
DTSTAMP:20260425T170959
CREATED:20180902T234259Z
LAST-MODIFIED:20180902T234259Z
UID:114721-1765526400-1765528200@www.stpaulsrcc.org
SUMMARY:Rosary
DESCRIPTION:
URL:https://www.stpaulsrcc.org/event/rosary/2025-12-12/
END:VEVENT
BEGIN:VEVENT
DTSTART;TZID=America/New_York:20251212T083000
DTEND;TZID=America/New_York:20251212T090000
DTSTAMP:20260425T170959
CREATED:20180902T234809Z
LAST-MODIFIED:20180902T234809Z
UID:114720-1765528200-1765530000@www.stpaulsrcc.org
SUMMARY:Communion Service
DESCRIPTION:
URL:https://www.stpaulsrcc.org/event/communion-service/2025-12-12/
END:VEVENT
BEGIN:VEVENT
DTSTART;TZID=America/New_York:20251213T160000
DTEND;TZID=America/New_York:20251213T163000
DTSTAMP:20260425T170959
CREATED:20180902T235631Z
LAST-MODIFIED:20180902T235631Z
UID:114723-1765641600-1765643400@www.stpaulsrcc.org
SUMMARY:Confession
DESCRIPTION:
URL:https://www.stpaulsrcc.org/event/confession/2025-12-13/
END:VEVENT
BEGIN:VEVENT
DTSTART;TZID=America/New_York:20251213T170000
DTEND;TZID=America/New_York:20251213T170000
DTSTAMP:20260425T170959
CREATED:20180822T184844Z
LAST-MODIFIED:20180822T184844Z
UID:114722-1765645200-1765645200@www.stpaulsrcc.org
SUMMARY:5:00 pm Mass
DESCRIPTION:
URL:https://www.stpaulsrcc.org/event/500-mass/2025-12-13/
END:VEVENT
BEGIN:VEVENT
DTSTART;TZID=America/New_York:20251214T090000
DTEND;TZID=America/New_York:20251214T100000
DTSTAMP:20260425T170959
CREATED:20180919T155747Z
LAST-MODIFIED:20180919T155747Z
UID:114725-1765702800-1765706400@www.stpaulsrcc.org
SUMMARY:9:00 am Mass
DESCRIPTION:
URL:https://www.stpaulsrcc.org/event/900-mass/2025-12-14/
END:VEVENT
BEGIN:VEVENT
DTSTART;TZID=America/New_York:20251214T110000
DTEND;TZID=America/New_York:20251214T110000
DTSTAMP:20260425T170959
CREATED:20180919T173655Z
LAST-MODIFIED:20180919T173655Z
UID:114726-1765710000-1765710000@www.stpaulsrcc.org
SUMMARY:11:00 am Mass
DESCRIPTION:
URL:https://www.stpaulsrcc.org/event/1100-mass/2025-12-14/
END:VEVENT
END:VCALENDAR