BEGIN:VCALENDAR
VERSION:2.0
PRODID:-//St. Paul&#039;s Roman Catholic Church - ECPv6.15.20//NONSGML v1.0//EN
CALSCALE:GREGORIAN
METHOD:PUBLISH
X-ORIGINAL-URL:https://www.stpaulsrcc.org
X-WR-CALDESC:Events for St. Paul&#039;s Roman Catholic Church
REFRESH-INTERVAL;VALUE=DURATION:PT1H
X-Robots-Tag:noindex
X-PUBLISHED-TTL:PT1H
BEGIN:VTIMEZONE
TZID:America/New_York
BEGIN:DAYLIGHT
TZOFFSETFROM:-0500
TZOFFSETTO:-0400
TZNAME:EDT
DTSTART:20250309T070000
END:DAYLIGHT
BEGIN:STANDARD
TZOFFSETFROM:-0400
TZOFFSETTO:-0500
TZNAME:EST
DTSTART:20251102T060000
END:STANDARD
BEGIN:DAYLIGHT
TZOFFSETFROM:-0500
TZOFFSETTO:-0400
TZNAME:EDT
DTSTART:20260308T070000
END:DAYLIGHT
BEGIN:STANDARD
TZOFFSETFROM:-0400
TZOFFSETTO:-0500
TZNAME:EST
DTSTART:20261101T060000
END:STANDARD
BEGIN:DAYLIGHT
TZOFFSETFROM:-0500
TZOFFSETTO:-0400
TZNAME:EDT
DTSTART:20270314T070000
END:DAYLIGHT
BEGIN:STANDARD
TZOFFSETFROM:-0400
TZOFFSETTO:-0500
TZNAME:EST
DTSTART:20271107T060000
END:STANDARD
END:VTIMEZONE
BEGIN:VEVENT
DTSTART;TZID=America/New_York:20260301T090000
DTEND;TZID=America/New_York:20260301T100000
DTSTAMP:20260425T121908
CREATED:20180919T155747Z
LAST-MODIFIED:20180919T155747Z
UID:115073-1772355600-1772359200@www.stpaulsrcc.org
SUMMARY:9:00 am Mass
DESCRIPTION:
URL:https://www.stpaulsrcc.org/event/900-mass/2026-03-01/
END:VEVENT
BEGIN:VEVENT
DTSTART;TZID=America/New_York:20260301T110000
DTEND;TZID=America/New_York:20260301T110000
DTSTAMP:20260425T121908
CREATED:20180919T173655Z
LAST-MODIFIED:20180919T173655Z
UID:115076-1772362800-1772362800@www.stpaulsrcc.org
SUMMARY:11:00 am Mass
DESCRIPTION:
URL:https://www.stpaulsrcc.org/event/1100-mass/2026-03-01/
END:VEVENT
BEGIN:VEVENT
DTSTART;TZID=America/New_York:20260302T080000
DTEND;TZID=America/New_York:20260302T083000
DTSTAMP:20260425T121908
CREATED:20180902T234259Z
LAST-MODIFIED:20180902T234259Z
UID:115103-1772438400-1772440200@www.stpaulsrcc.org
SUMMARY:Rosary
DESCRIPTION:
URL:https://www.stpaulsrcc.org/event/rosary/2026-03-02/
END:VEVENT
BEGIN:VEVENT
DTSTART;TZID=America/New_York:20260302T083000
DTEND;TZID=America/New_York:20260302T090000
DTSTAMP:20260425T121908
CREATED:20180902T234550Z
LAST-MODIFIED:20180902T234550Z
UID:115088-1772440200-1772442000@www.stpaulsrcc.org
SUMMARY:Mass
DESCRIPTION:
URL:https://www.stpaulsrcc.org/event/mass/2026-03-02/
END:VEVENT
BEGIN:VEVENT
DTSTART;TZID=America/New_York:20260303T080000
DTEND;TZID=America/New_York:20260303T083000
DTSTAMP:20260425T121908
CREATED:20180902T234259Z
LAST-MODIFIED:20180902T234259Z
UID:115104-1772524800-1772526600@www.stpaulsrcc.org
SUMMARY:Rosary
DESCRIPTION:
URL:https://www.stpaulsrcc.org/event/rosary/2026-03-03/
END:VEVENT
BEGIN:VEVENT
DTSTART;TZID=America/New_York:20260303T083000
DTEND;TZID=America/New_York:20260303T090000
DTSTAMP:20260425T121908
CREATED:20180902T234550Z
LAST-MODIFIED:20180902T234550Z
UID:115089-1772526600-1772528400@www.stpaulsrcc.org
SUMMARY:Mass
DESCRIPTION:
URL:https://www.stpaulsrcc.org/event/mass/2026-03-03/
END:VEVENT
BEGIN:VEVENT
DTSTART;TZID=America/New_York:20260304T080000
DTEND;TZID=America/New_York:20260304T083000
DTSTAMP:20260425T121908
CREATED:20180902T234259Z
LAST-MODIFIED:20180902T234259Z
UID:115105-1772611200-1772613000@www.stpaulsrcc.org
SUMMARY:Rosary
DESCRIPTION:
URL:https://www.stpaulsrcc.org/event/rosary/2026-03-04/
END:VEVENT
BEGIN:VEVENT
DTSTART;TZID=America/New_York:20260304T083000
DTEND;TZID=America/New_York:20260304T090000
DTSTAMP:20260425T121908
CREATED:20180902T234550Z
LAST-MODIFIED:20180902T234550Z
UID:115090-1772613000-1772614800@www.stpaulsrcc.org
SUMMARY:Mass
DESCRIPTION:
URL:https://www.stpaulsrcc.org/event/mass/2026-03-04/
END:VEVENT
BEGIN:VEVENT
DTSTART;TZID=America/New_York:20260304T090000
DTEND;TZID=America/New_York:20260304T100000
DTSTAMP:20260425T121908
CREATED:20180902T235249Z
LAST-MODIFIED:20180902T235249Z
UID:115079-1772614800-1772618400@www.stpaulsrcc.org
SUMMARY:Adoration
DESCRIPTION:
URL:https://www.stpaulsrcc.org/event/adoration/2026-03-04/
END:VEVENT
BEGIN:VEVENT
DTSTART;TZID=America/New_York:20260305T080000
DTEND;TZID=America/New_York:20260305T083000
DTSTAMP:20260425T121908
CREATED:20180902T234259Z
LAST-MODIFIED:20180902T234259Z
UID:115115-1772697600-1772699400@www.stpaulsrcc.org
SUMMARY:Rosary
DESCRIPTION:
URL:https://www.stpaulsrcc.org/event/rosary/2026-03-05/
END:VEVENT
BEGIN:VEVENT
DTSTART;TZID=America/New_York:20260305T083000
DTEND;TZID=America/New_York:20260305T090000
DTSTAMP:20260425T121908
CREATED:20180902T234550Z
LAST-MODIFIED:20180902T234550Z
UID:115114-1772699400-1772701200@www.stpaulsrcc.org
SUMMARY:Mass
DESCRIPTION:
URL:https://www.stpaulsrcc.org/event/mass/2026-03-05/
END:VEVENT
BEGIN:VEVENT
DTSTART;TZID=America/New_York:20260306T080000
DTEND;TZID=America/New_York:20260306T083000
DTSTAMP:20260425T121908
CREATED:20180902T234259Z
LAST-MODIFIED:20180902T234259Z
UID:115119-1772784000-1772785800@www.stpaulsrcc.org
SUMMARY:Rosary
DESCRIPTION:
URL:https://www.stpaulsrcc.org/event/rosary/2026-03-06/
END:VEVENT
BEGIN:VEVENT
DTSTART;TZID=America/New_York:20260306T083000
DTEND;TZID=America/New_York:20260306T090000
DTSTAMP:20260425T121908
CREATED:20180902T234809Z
LAST-MODIFIED:20180902T234809Z
UID:115118-1772785800-1772787600@www.stpaulsrcc.org
SUMMARY:Communion Service
DESCRIPTION:
URL:https://www.stpaulsrcc.org/event/communion-service/2026-03-06/
END:VEVENT
BEGIN:VEVENT
DTSTART;TZID=America/New_York:20260307T160000
DTEND;TZID=America/New_York:20260307T163000
DTSTAMP:20260425T121908
CREATED:20180902T235631Z
LAST-MODIFIED:20180902T235631Z
UID:115124-1772899200-1772901000@www.stpaulsrcc.org
SUMMARY:Confession
DESCRIPTION:
URL:https://www.stpaulsrcc.org/event/confession/2026-03-07/
END:VEVENT
BEGIN:VEVENT
DTSTART;TZID=America/New_York:20260307T170000
DTEND;TZID=America/New_York:20260307T170000
DTSTAMP:20260425T121908
CREATED:20180822T184844Z
LAST-MODIFIED:20180822T184844Z
UID:115123-1772902800-1772902800@www.stpaulsrcc.org
SUMMARY:5:00 pm Mass
DESCRIPTION:
URL:https://www.stpaulsrcc.org/event/500-mass/2026-03-07/
END:VEVENT
BEGIN:VEVENT
DTSTART;TZID=America/New_York:20260308T090000
DTEND;TZID=America/New_York:20260308T100000
DTSTAMP:20260425T121908
CREATED:20180919T155747Z
LAST-MODIFIED:20180919T155747Z
UID:115127-1772960400-1772964000@www.stpaulsrcc.org
SUMMARY:9:00 am Mass
DESCRIPTION:
URL:https://www.stpaulsrcc.org/event/900-mass/2026-03-08/
END:VEVENT
BEGIN:VEVENT
DTSTART;TZID=America/New_York:20260308T110000
DTEND;TZID=America/New_York:20260308T110000
DTSTAMP:20260425T121908
CREATED:20180919T173655Z
LAST-MODIFIED:20180919T173655Z
UID:115128-1772967600-1772967600@www.stpaulsrcc.org
SUMMARY:11:00 am Mass
DESCRIPTION:
URL:https://www.stpaulsrcc.org/event/1100-mass/2026-03-08/
END:VEVENT
BEGIN:VEVENT
DTSTART;TZID=America/New_York:20260309T080000
DTEND;TZID=America/New_York:20260309T083000
DTSTAMP:20260425T121908
CREATED:20180902T234259Z
LAST-MODIFIED:20180902T234259Z
UID:115133-1773043200-1773045000@www.stpaulsrcc.org
SUMMARY:Rosary
DESCRIPTION:
URL:https://www.stpaulsrcc.org/event/rosary/2026-03-09/
END:VEVENT
BEGIN:VEVENT
DTSTART;TZID=America/New_York:20260309T083000
DTEND;TZID=America/New_York:20260309T090000
DTSTAMP:20260425T121908
CREATED:20180902T234550Z
LAST-MODIFIED:20180902T234550Z
UID:115132-1773045000-1773046800@www.stpaulsrcc.org
SUMMARY:Mass
DESCRIPTION:
URL:https://www.stpaulsrcc.org/event/mass/2026-03-09/
END:VEVENT
BEGIN:VEVENT
DTSTART;TZID=America/New_York:20260310T080000
DTEND;TZID=America/New_York:20260310T083000
DTSTAMP:20260425T121908
CREATED:20180902T234259Z
LAST-MODIFIED:20180902T234259Z
UID:115137-1773129600-1773131400@www.stpaulsrcc.org
SUMMARY:Rosary
DESCRIPTION:
URL:https://www.stpaulsrcc.org/event/rosary/2026-03-10/
END:VEVENT
BEGIN:VEVENT
DTSTART;TZID=America/New_York:20260310T083000
DTEND;TZID=America/New_York:20260310T090000
DTSTAMP:20260425T121908
CREATED:20180902T234550Z
LAST-MODIFIED:20180902T234550Z
UID:115136-1773131400-1773133200@www.stpaulsrcc.org
SUMMARY:Mass
DESCRIPTION:
URL:https://www.stpaulsrcc.org/event/mass/2026-03-10/
END:VEVENT
BEGIN:VEVENT
DTSTART;TZID=America/New_York:20260311T080000
DTEND;TZID=America/New_York:20260311T083000
DTSTAMP:20260425T121908
CREATED:20180902T234259Z
LAST-MODIFIED:20180902T234259Z
UID:115145-1773216000-1773217800@www.stpaulsrcc.org
SUMMARY:Rosary
DESCRIPTION:
URL:https://www.stpaulsrcc.org/event/rosary/2026-03-11/
END:VEVENT
BEGIN:VEVENT
DTSTART;TZID=America/New_York:20260311T083000
DTEND;TZID=America/New_York:20260311T090000
DTSTAMP:20260425T121908
CREATED:20180902T234550Z
LAST-MODIFIED:20180902T234550Z
UID:115144-1773217800-1773219600@www.stpaulsrcc.org
SUMMARY:Mass
DESCRIPTION:
URL:https://www.stpaulsrcc.org/event/mass/2026-03-11/
END:VEVENT
BEGIN:VEVENT
DTSTART;TZID=America/New_York:20260311T090000
DTEND;TZID=America/New_York:20260311T100000
DTSTAMP:20260425T121908
CREATED:20180902T235249Z
LAST-MODIFIED:20180902T235249Z
UID:115143-1773219600-1773223200@www.stpaulsrcc.org
SUMMARY:Adoration
DESCRIPTION:
URL:https://www.stpaulsrcc.org/event/adoration/2026-03-11/
END:VEVENT
BEGIN:VEVENT
DTSTART;TZID=America/New_York:20260312T080000
DTEND;TZID=America/New_York:20260312T083000
DTSTAMP:20260425T121908
CREATED:20180902T234259Z
LAST-MODIFIED:20180902T234259Z
UID:115153-1773302400-1773304200@www.stpaulsrcc.org
SUMMARY:Rosary
DESCRIPTION:
URL:https://www.stpaulsrcc.org/event/rosary/2026-03-12/
END:VEVENT
BEGIN:VEVENT
DTSTART;TZID=America/New_York:20260312T083000
DTEND;TZID=America/New_York:20260312T090000
DTSTAMP:20260425T121908
CREATED:20180902T234550Z
LAST-MODIFIED:20180902T234550Z
UID:115152-1773304200-1773306000@www.stpaulsrcc.org
SUMMARY:Mass
DESCRIPTION:
URL:https://www.stpaulsrcc.org/event/mass/2026-03-12/
END:VEVENT
BEGIN:VEVENT
DTSTART;TZID=America/New_York:20260313T080000
DTEND;TZID=America/New_York:20260313T083000
DTSTAMP:20260425T121908
CREATED:20180902T234259Z
LAST-MODIFIED:20180902T234259Z
UID:115161-1773388800-1773390600@www.stpaulsrcc.org
SUMMARY:Rosary
DESCRIPTION:
URL:https://www.stpaulsrcc.org/event/rosary/2026-03-13/
END:VEVENT
BEGIN:VEVENT
DTSTART;TZID=America/New_York:20260313T083000
DTEND;TZID=America/New_York:20260313T090000
DTSTAMP:20260425T121908
CREATED:20180902T234809Z
LAST-MODIFIED:20180902T234809Z
UID:115160-1773390600-1773392400@www.stpaulsrcc.org
SUMMARY:Communion Service
DESCRIPTION:
URL:https://www.stpaulsrcc.org/event/communion-service/2026-03-13/
END:VEVENT
BEGIN:VEVENT
DTSTART;TZID=America/New_York:20260314T160000
DTEND;TZID=America/New_York:20260314T163000
DTSTAMP:20260425T121908
CREATED:20180902T235631Z
LAST-MODIFIED:20180902T235631Z
UID:115165-1773504000-1773505800@www.stpaulsrcc.org
SUMMARY:Confession
DESCRIPTION:
URL:https://www.stpaulsrcc.org/event/confession/2026-03-14/
END:VEVENT
BEGIN:VEVENT
DTSTART;TZID=America/New_York:20260314T170000
DTEND;TZID=America/New_York:20260314T170000
DTSTAMP:20260425T121908
CREATED:20180822T184844Z
LAST-MODIFIED:20180822T184844Z
UID:115164-1773507600-1773507600@www.stpaulsrcc.org
SUMMARY:5:00 pm Mass
DESCRIPTION:
URL:https://www.stpaulsrcc.org/event/500-mass/2026-03-14/
END:VEVENT
END:VCALENDAR