BEGIN:VCALENDAR
VERSION:2.0
PRODID:-//St. Paul&#039;s Roman Catholic Church - ECPv6.15.20//NONSGML v1.0//EN
CALSCALE:GREGORIAN
METHOD:PUBLISH
X-ORIGINAL-URL:https://www.stpaulsrcc.org
X-WR-CALDESC:Events for St. Paul&#039;s Roman Catholic Church
REFRESH-INTERVAL;VALUE=DURATION:PT1H
X-Robots-Tag:noindex
X-PUBLISHED-TTL:PT1H
BEGIN:VTIMEZONE
TZID:America/New_York
BEGIN:DAYLIGHT
TZOFFSETFROM:-0500
TZOFFSETTO:-0400
TZNAME:EDT
DTSTART:20250309T070000
END:DAYLIGHT
BEGIN:STANDARD
TZOFFSETFROM:-0400
TZOFFSETTO:-0500
TZNAME:EST
DTSTART:20251102T060000
END:STANDARD
BEGIN:DAYLIGHT
TZOFFSETFROM:-0500
TZOFFSETTO:-0400
TZNAME:EDT
DTSTART:20260308T070000
END:DAYLIGHT
BEGIN:STANDARD
TZOFFSETFROM:-0400
TZOFFSETTO:-0500
TZNAME:EST
DTSTART:20261101T060000
END:STANDARD
BEGIN:DAYLIGHT
TZOFFSETFROM:-0500
TZOFFSETTO:-0400
TZNAME:EDT
DTSTART:20270314T070000
END:DAYLIGHT
BEGIN:STANDARD
TZOFFSETFROM:-0400
TZOFFSETTO:-0500
TZNAME:EST
DTSTART:20271107T060000
END:STANDARD
END:VTIMEZONE
BEGIN:VEVENT
DTSTART;TZID=America/New_York:20260601T080000
DTEND;TZID=America/New_York:20260601T083000
DTSTAMP:20260425T135448
CREATED:20180902T234259Z
LAST-MODIFIED:20180902T234259Z
UID:115585-1780300800-1780302600@www.stpaulsrcc.org
SUMMARY:Rosary
DESCRIPTION:
URL:https://www.stpaulsrcc.org/event/rosary/2026-06-01/
END:VEVENT
BEGIN:VEVENT
DTSTART;TZID=America/New_York:20260601T083000
DTEND;TZID=America/New_York:20260601T090000
DTSTAMP:20260425T135448
CREATED:20180902T234550Z
LAST-MODIFIED:20180902T234550Z
UID:115584-1780302600-1780304400@www.stpaulsrcc.org
SUMMARY:Mass
DESCRIPTION:
URL:https://www.stpaulsrcc.org/event/mass/2026-06-01/
END:VEVENT
BEGIN:VEVENT
DTSTART;TZID=America/New_York:20260602T080000
DTEND;TZID=America/New_York:20260602T083000
DTSTAMP:20260425T135448
CREATED:20180902T234259Z
LAST-MODIFIED:20180902T234259Z
UID:115591-1780387200-1780389000@www.stpaulsrcc.org
SUMMARY:Rosary
DESCRIPTION:
URL:https://www.stpaulsrcc.org/event/rosary/2026-06-02/
END:VEVENT
BEGIN:VEVENT
DTSTART;TZID=America/New_York:20260602T083000
DTEND;TZID=America/New_York:20260602T090000
DTSTAMP:20260425T135448
CREATED:20180902T234550Z
LAST-MODIFIED:20180902T234550Z
UID:115590-1780389000-1780390800@www.stpaulsrcc.org
SUMMARY:Mass
DESCRIPTION:
URL:https://www.stpaulsrcc.org/event/mass/2026-06-02/
END:VEVENT
BEGIN:VEVENT
DTSTART;TZID=America/New_York:20260603T080000
DTEND;TZID=America/New_York:20260603T083000
DTSTAMP:20260425T135448
CREATED:20180902T234259Z
LAST-MODIFIED:20180902T234259Z
UID:115604-1780473600-1780475400@www.stpaulsrcc.org
SUMMARY:Rosary
DESCRIPTION:
URL:https://www.stpaulsrcc.org/event/rosary/2026-06-03/
END:VEVENT
BEGIN:VEVENT
DTSTART;TZID=America/New_York:20260603T083000
DTEND;TZID=America/New_York:20260603T090000
DTSTAMP:20260425T135448
CREATED:20180902T234550Z
LAST-MODIFIED:20180902T234550Z
UID:115603-1780475400-1780477200@www.stpaulsrcc.org
SUMMARY:Mass
DESCRIPTION:
URL:https://www.stpaulsrcc.org/event/mass/2026-06-03/
END:VEVENT
BEGIN:VEVENT
DTSTART;TZID=America/New_York:20260603T090000
DTEND;TZID=America/New_York:20260603T100000
DTSTAMP:20260425T135448
CREATED:20180902T235249Z
LAST-MODIFIED:20180902T235249Z
UID:115602-1780477200-1780480800@www.stpaulsrcc.org
SUMMARY:Adoration
DESCRIPTION:
URL:https://www.stpaulsrcc.org/event/adoration/2026-06-03/
END:VEVENT
BEGIN:VEVENT
DTSTART;TZID=America/New_York:20260604T080000
DTEND;TZID=America/New_York:20260604T083000
DTSTAMP:20260425T135448
CREATED:20180902T234259Z
LAST-MODIFIED:20180902T234259Z
UID:115612-1780560000-1780561800@www.stpaulsrcc.org
SUMMARY:Rosary
DESCRIPTION:
URL:https://www.stpaulsrcc.org/event/rosary/2026-06-04/
END:VEVENT
BEGIN:VEVENT
DTSTART;TZID=America/New_York:20260604T083000
DTEND;TZID=America/New_York:20260604T090000
DTSTAMP:20260425T135448
CREATED:20180902T234550Z
LAST-MODIFIED:20180902T234550Z
UID:115611-1780561800-1780563600@www.stpaulsrcc.org
SUMMARY:Mass
DESCRIPTION:
URL:https://www.stpaulsrcc.org/event/mass/2026-06-04/
END:VEVENT
BEGIN:VEVENT
DTSTART;TZID=America/New_York:20260605T080000
DTEND;TZID=America/New_York:20260605T083000
DTSTAMP:20260425T135448
CREATED:20180902T234259Z
LAST-MODIFIED:20180902T234259Z
UID:115618-1780646400-1780648200@www.stpaulsrcc.org
SUMMARY:Rosary
DESCRIPTION:
URL:https://www.stpaulsrcc.org/event/rosary/2026-06-05/
END:VEVENT
BEGIN:VEVENT
DTSTART;TZID=America/New_York:20260605T083000
DTEND;TZID=America/New_York:20260605T090000
DTSTAMP:20260425T135448
CREATED:20180902T234809Z
LAST-MODIFIED:20180902T234809Z
UID:115617-1780648200-1780650000@www.stpaulsrcc.org
SUMMARY:Communion Service
DESCRIPTION:
URL:https://www.stpaulsrcc.org/event/communion-service/2026-06-05/
END:VEVENT
BEGIN:VEVENT
DTSTART;TZID=America/New_York:20260606T160000
DTEND;TZID=America/New_York:20260606T163000
DTSTAMP:20260425T135448
CREATED:20180902T235631Z
LAST-MODIFIED:20180902T235631Z
UID:115630-1780761600-1780763400@www.stpaulsrcc.org
SUMMARY:Confession
DESCRIPTION:
URL:https://www.stpaulsrcc.org/event/confession/2026-06-06/
END:VEVENT
BEGIN:VEVENT
DTSTART;TZID=America/New_York:20260606T170000
DTEND;TZID=America/New_York:20260606T170000
DTSTAMP:20260425T135448
CREATED:20180822T184844Z
LAST-MODIFIED:20180822T184844Z
UID:115629-1780765200-1780765200@www.stpaulsrcc.org
SUMMARY:5:00 pm Mass
DESCRIPTION:
URL:https://www.stpaulsrcc.org/event/500-mass/2026-06-06/
END:VEVENT
BEGIN:VEVENT
DTSTART;TZID=America/New_York:20260607T090000
DTEND;TZID=America/New_York:20260607T100000
DTSTAMP:20260425T135448
CREATED:20180919T155747Z
LAST-MODIFIED:20180919T155747Z
UID:115632-1780822800-1780826400@www.stpaulsrcc.org
SUMMARY:9:00 am Mass
DESCRIPTION:
URL:https://www.stpaulsrcc.org/event/900-mass/2026-06-07/
END:VEVENT
BEGIN:VEVENT
DTSTART;TZID=America/New_York:20260607T110000
DTEND;TZID=America/New_York:20260607T110000
DTSTAMP:20260425T135448
CREATED:20180919T173655Z
LAST-MODIFIED:20180919T173655Z
UID:115633-1780830000-1780830000@www.stpaulsrcc.org
SUMMARY:11:00 am Mass
DESCRIPTION:
URL:https://www.stpaulsrcc.org/event/1100-mass/2026-06-07/
END:VEVENT
BEGIN:VEVENT
DTSTART;TZID=America/New_York:20260608T080000
DTEND;TZID=America/New_York:20260608T083000
DTSTAMP:20260425T135448
CREATED:20180902T234259Z
LAST-MODIFIED:20180902T234259Z
UID:115638-1780905600-1780907400@www.stpaulsrcc.org
SUMMARY:Rosary
DESCRIPTION:
URL:https://www.stpaulsrcc.org/event/rosary/2026-06-08/
END:VEVENT
BEGIN:VEVENT
DTSTART;TZID=America/New_York:20260608T083000
DTEND;TZID=America/New_York:20260608T090000
DTSTAMP:20260425T135448
CREATED:20180902T234550Z
LAST-MODIFIED:20180902T234550Z
UID:115637-1780907400-1780909200@www.stpaulsrcc.org
SUMMARY:Mass
DESCRIPTION:
URL:https://www.stpaulsrcc.org/event/mass/2026-06-08/
END:VEVENT
BEGIN:VEVENT
DTSTART;TZID=America/New_York:20260609T080000
DTEND;TZID=America/New_York:20260609T083000
DTSTAMP:20260425T135448
CREATED:20180902T234259Z
LAST-MODIFIED:20180902T234259Z
UID:115649-1780992000-1780993800@www.stpaulsrcc.org
SUMMARY:Rosary
DESCRIPTION:
URL:https://www.stpaulsrcc.org/event/rosary/2026-06-09/
END:VEVENT
BEGIN:VEVENT
DTSTART;TZID=America/New_York:20260609T083000
DTEND;TZID=America/New_York:20260609T090000
DTSTAMP:20260425T135448
CREATED:20180902T234550Z
LAST-MODIFIED:20180902T234550Z
UID:115648-1780993800-1780995600@www.stpaulsrcc.org
SUMMARY:Mass
DESCRIPTION:
URL:https://www.stpaulsrcc.org/event/mass/2026-06-09/
END:VEVENT
BEGIN:VEVENT
DTSTART;TZID=America/New_York:20260610T080000
DTEND;TZID=America/New_York:20260610T083000
DTSTAMP:20260425T135448
CREATED:20180902T234259Z
LAST-MODIFIED:20180902T234259Z
UID:115667-1781078400-1781080200@www.stpaulsrcc.org
SUMMARY:Rosary
DESCRIPTION:
URL:https://www.stpaulsrcc.org/event/rosary/2026-06-10/
END:VEVENT
BEGIN:VEVENT
DTSTART;TZID=America/New_York:20260610T083000
DTEND;TZID=America/New_York:20260610T090000
DTSTAMP:20260425T135448
CREATED:20180902T234550Z
LAST-MODIFIED:20180902T234550Z
UID:115666-1781080200-1781082000@www.stpaulsrcc.org
SUMMARY:Mass
DESCRIPTION:
URL:https://www.stpaulsrcc.org/event/mass/2026-06-10/
END:VEVENT
BEGIN:VEVENT
DTSTART;TZID=America/New_York:20260610T090000
DTEND;TZID=America/New_York:20260610T100000
DTSTAMP:20260425T135448
CREATED:20180902T235249Z
LAST-MODIFIED:20180902T235249Z
UID:115665-1781082000-1781085600@www.stpaulsrcc.org
SUMMARY:Adoration
DESCRIPTION:
URL:https://www.stpaulsrcc.org/event/adoration/2026-06-10/
END:VEVENT
BEGIN:VEVENT
DTSTART;TZID=America/New_York:20260611T080000
DTEND;TZID=America/New_York:20260611T083000
DTSTAMP:20260425T135448
CREATED:20180902T234259Z
LAST-MODIFIED:20180902T234259Z
UID:115670-1781164800-1781166600@www.stpaulsrcc.org
SUMMARY:Rosary
DESCRIPTION:
URL:https://www.stpaulsrcc.org/event/rosary/2026-06-11/
END:VEVENT
BEGIN:VEVENT
DTSTART;TZID=America/New_York:20260611T083000
DTEND;TZID=America/New_York:20260611T090000
DTSTAMP:20260425T135448
CREATED:20180902T234550Z
LAST-MODIFIED:20180902T234550Z
UID:115669-1781166600-1781168400@www.stpaulsrcc.org
SUMMARY:Mass
DESCRIPTION:
URL:https://www.stpaulsrcc.org/event/mass/2026-06-11/
END:VEVENT
BEGIN:VEVENT
DTSTART;TZID=America/New_York:20260612T080000
DTEND;TZID=America/New_York:20260612T083000
DTSTAMP:20260425T135448
CREATED:20180902T234259Z
LAST-MODIFIED:20180902T234259Z
UID:115680-1781251200-1781253000@www.stpaulsrcc.org
SUMMARY:Rosary
DESCRIPTION:
URL:https://www.stpaulsrcc.org/event/rosary/2026-06-12/
END:VEVENT
BEGIN:VEVENT
DTSTART;TZID=America/New_York:20260612T083000
DTEND;TZID=America/New_York:20260612T090000
DTSTAMP:20260425T135448
CREATED:20180902T234809Z
LAST-MODIFIED:20180902T234809Z
UID:115679-1781253000-1781254800@www.stpaulsrcc.org
SUMMARY:Communion Service
DESCRIPTION:
URL:https://www.stpaulsrcc.org/event/communion-service/2026-06-12/
END:VEVENT
BEGIN:VEVENT
DTSTART;TZID=America/New_York:20260613T160000
DTEND;TZID=America/New_York:20260613T163000
DTSTAMP:20260425T135448
CREATED:20180902T235631Z
LAST-MODIFIED:20180902T235631Z
UID:115684-1781366400-1781368200@www.stpaulsrcc.org
SUMMARY:Confession
DESCRIPTION:
URL:https://www.stpaulsrcc.org/event/confession/2026-06-13/
END:VEVENT
BEGIN:VEVENT
DTSTART;TZID=America/New_York:20260613T170000
DTEND;TZID=America/New_York:20260613T170000
DTSTAMP:20260425T135448
CREATED:20180822T184844Z
LAST-MODIFIED:20180822T184844Z
UID:115683-1781370000-1781370000@www.stpaulsrcc.org
SUMMARY:5:00 pm Mass
DESCRIPTION:
URL:https://www.stpaulsrcc.org/event/500-mass/2026-06-13/
END:VEVENT
BEGIN:VEVENT
DTSTART;TZID=America/New_York:20260614T090000
DTEND;TZID=America/New_York:20260614T100000
DTSTAMP:20260425T135448
CREATED:20180919T155747Z
LAST-MODIFIED:20180919T155747Z
UID:115686-1781427600-1781431200@www.stpaulsrcc.org
SUMMARY:9:00 am Mass
DESCRIPTION:
URL:https://www.stpaulsrcc.org/event/900-mass/2026-06-14/
END:VEVENT
BEGIN:VEVENT
DTSTART;TZID=America/New_York:20260614T110000
DTEND;TZID=America/New_York:20260614T110000
DTSTAMP:20260425T135448
CREATED:20180919T173655Z
LAST-MODIFIED:20180919T173655Z
UID:115687-1781434800-1781434800@www.stpaulsrcc.org
SUMMARY:11:00 am Mass
DESCRIPTION:
URL:https://www.stpaulsrcc.org/event/1100-mass/2026-06-14/
END:VEVENT
END:VCALENDAR