BEGIN:VCALENDAR
VERSION:2.0
PRODID:-//St. Paul&#039;s Roman Catholic Church - ECPv6.15.20//NONSGML v1.0//EN
CALSCALE:GREGORIAN
METHOD:PUBLISH
X-WR-CALNAME:St. Paul&#039;s Roman Catholic Church
X-ORIGINAL-URL:https://www.stpaulsrcc.org
X-WR-CALDESC:Events for St. Paul&#039;s Roman Catholic Church
REFRESH-INTERVAL;VALUE=DURATION:PT1H
X-Robots-Tag:noindex
X-PUBLISHED-TTL:PT1H
BEGIN:VTIMEZONE
TZID:America/New_York
BEGIN:DAYLIGHT
TZOFFSETFROM:-0500
TZOFFSETTO:-0400
TZNAME:EDT
DTSTART:20250309T070000
END:DAYLIGHT
BEGIN:STANDARD
TZOFFSETFROM:-0400
TZOFFSETTO:-0500
TZNAME:EST
DTSTART:20251102T060000
END:STANDARD
BEGIN:DAYLIGHT
TZOFFSETFROM:-0500
TZOFFSETTO:-0400
TZNAME:EDT
DTSTART:20260308T070000
END:DAYLIGHT
BEGIN:STANDARD
TZOFFSETFROM:-0400
TZOFFSETTO:-0500
TZNAME:EST
DTSTART:20261101T060000
END:STANDARD
BEGIN:DAYLIGHT
TZOFFSETFROM:-0500
TZOFFSETTO:-0400
TZNAME:EDT
DTSTART:20270314T070000
END:DAYLIGHT
BEGIN:STANDARD
TZOFFSETFROM:-0400
TZOFFSETTO:-0500
TZNAME:EST
DTSTART:20271107T060000
END:STANDARD
END:VTIMEZONE
BEGIN:VEVENT
DTSTART;TZID=America/New_York:20260901T080000
DTEND;TZID=America/New_York:20260901T083000
DTSTAMP:20260425T185528
CREATED:20180902T234259Z
LAST-MODIFIED:20180902T234259Z
UID:116255-1788249600-1788251400@www.stpaulsrcc.org
SUMMARY:Rosary
DESCRIPTION:
URL:https://www.stpaulsrcc.org/event/rosary/2026-09-01/
END:VEVENT
BEGIN:VEVENT
DTSTART;TZID=America/New_York:20260901T083000
DTEND;TZID=America/New_York:20260901T090000
DTSTAMP:20260425T185528
CREATED:20180902T234550Z
LAST-MODIFIED:20180902T234550Z
UID:116254-1788251400-1788253200@www.stpaulsrcc.org
SUMMARY:Mass
DESCRIPTION:
URL:https://www.stpaulsrcc.org/event/mass/2026-09-01/
END:VEVENT
BEGIN:VEVENT
DTSTART;TZID=America/New_York:20260902T080000
DTEND;TZID=America/New_York:20260902T083000
DTSTAMP:20260425T185528
CREATED:20180902T234259Z
LAST-MODIFIED:20180902T234259Z
UID:116260-1788336000-1788337800@www.stpaulsrcc.org
SUMMARY:Rosary
DESCRIPTION:
URL:https://www.stpaulsrcc.org/event/rosary/2026-09-02/
END:VEVENT
BEGIN:VEVENT
DTSTART;TZID=America/New_York:20260902T083000
DTEND;TZID=America/New_York:20260902T090000
DTSTAMP:20260425T185528
CREATED:20180902T234550Z
LAST-MODIFIED:20180902T234550Z
UID:116259-1788337800-1788339600@www.stpaulsrcc.org
SUMMARY:Mass
DESCRIPTION:
URL:https://www.stpaulsrcc.org/event/mass/2026-09-02/
END:VEVENT
BEGIN:VEVENT
DTSTART;TZID=America/New_York:20260902T090000
DTEND;TZID=America/New_York:20260902T100000
DTSTAMP:20260425T185528
CREATED:20180902T235249Z
LAST-MODIFIED:20180902T235249Z
UID:116258-1788339600-1788343200@www.stpaulsrcc.org
SUMMARY:Adoration
DESCRIPTION:
URL:https://www.stpaulsrcc.org/event/adoration/2026-09-02/
END:VEVENT
BEGIN:VEVENT
DTSTART;TZID=America/New_York:20260903T080000
DTEND;TZID=America/New_York:20260903T083000
DTSTAMP:20260425T185528
CREATED:20180902T234259Z
LAST-MODIFIED:20180902T234259Z
UID:116266-1788422400-1788424200@www.stpaulsrcc.org
SUMMARY:Rosary
DESCRIPTION:
URL:https://www.stpaulsrcc.org/event/rosary/2026-09-03/
END:VEVENT
BEGIN:VEVENT
DTSTART;TZID=America/New_York:20260903T083000
DTEND;TZID=America/New_York:20260903T090000
DTSTAMP:20260425T185528
CREATED:20180902T234550Z
LAST-MODIFIED:20180902T234550Z
UID:116265-1788424200-1788426000@www.stpaulsrcc.org
SUMMARY:Mass
DESCRIPTION:
URL:https://www.stpaulsrcc.org/event/mass/2026-09-03/
END:VEVENT
BEGIN:VEVENT
DTSTART;TZID=America/New_York:20260904T080000
DTEND;TZID=America/New_York:20260904T083000
DTSTAMP:20260425T185528
CREATED:20180902T234259Z
LAST-MODIFIED:20180902T234259Z
UID:116271-1788508800-1788510600@www.stpaulsrcc.org
SUMMARY:Rosary
DESCRIPTION:
URL:https://www.stpaulsrcc.org/event/rosary/2026-09-04/
END:VEVENT
BEGIN:VEVENT
DTSTART;TZID=America/New_York:20260904T083000
DTEND;TZID=America/New_York:20260904T090000
DTSTAMP:20260425T185528
CREATED:20180902T234809Z
LAST-MODIFIED:20180902T234809Z
UID:116270-1788510600-1788512400@www.stpaulsrcc.org
SUMMARY:Communion Service
DESCRIPTION:
URL:https://www.stpaulsrcc.org/event/communion-service/2026-09-04/
END:VEVENT
BEGIN:VEVENT
DTSTART;TZID=America/New_York:20260905T160000
DTEND;TZID=America/New_York:20260905T163000
DTSTAMP:20260425T185528
CREATED:20180902T235631Z
LAST-MODIFIED:20180902T235631Z
UID:116278-1788624000-1788625800@www.stpaulsrcc.org
SUMMARY:Confession
DESCRIPTION:
URL:https://www.stpaulsrcc.org/event/confession/2026-09-05/
END:VEVENT
BEGIN:VEVENT
DTSTART;TZID=America/New_York:20260905T170000
DTEND;TZID=America/New_York:20260905T170000
DTSTAMP:20260425T185528
CREATED:20180822T184844Z
LAST-MODIFIED:20180822T184844Z
UID:116277-1788627600-1788627600@www.stpaulsrcc.org
SUMMARY:5:00 pm Mass
DESCRIPTION:
URL:https://www.stpaulsrcc.org/event/500-mass/2026-09-05/
END:VEVENT
BEGIN:VEVENT
DTSTART;TZID=America/New_York:20260906T090000
DTEND;TZID=America/New_York:20260906T100000
DTSTAMP:20260425T185528
CREATED:20180919T155747Z
LAST-MODIFIED:20180919T155747Z
UID:116282-1788685200-1788688800@www.stpaulsrcc.org
SUMMARY:9:00 am Mass
DESCRIPTION:
URL:https://www.stpaulsrcc.org/event/900-mass/2026-09-06/
END:VEVENT
BEGIN:VEVENT
DTSTART;TZID=America/New_York:20260906T110000
DTEND;TZID=America/New_York:20260906T110000
DTSTAMP:20260425T185528
CREATED:20180919T173655Z
LAST-MODIFIED:20180919T173655Z
UID:116283-1788692400-1788692400@www.stpaulsrcc.org
SUMMARY:11:00 am Mass
DESCRIPTION:
URL:https://www.stpaulsrcc.org/event/1100-mass/2026-09-06/
END:VEVENT
BEGIN:VEVENT
DTSTART;TZID=America/New_York:20260907T080000
DTEND;TZID=America/New_York:20260907T083000
DTSTAMP:20260425T185528
CREATED:20180902T234259Z
LAST-MODIFIED:20180902T234259Z
UID:116287-1788768000-1788769800@www.stpaulsrcc.org
SUMMARY:Rosary
DESCRIPTION:
URL:https://www.stpaulsrcc.org/event/rosary/2026-09-07/
END:VEVENT
BEGIN:VEVENT
DTSTART;TZID=America/New_York:20260907T083000
DTEND;TZID=America/New_York:20260907T090000
DTSTAMP:20260425T185528
CREATED:20180902T234550Z
LAST-MODIFIED:20180902T234550Z
UID:116286-1788769800-1788771600@www.stpaulsrcc.org
SUMMARY:Mass
DESCRIPTION:
URL:https://www.stpaulsrcc.org/event/mass/2026-09-07/
END:VEVENT
BEGIN:VEVENT
DTSTART;TZID=America/New_York:20260908T080000
DTEND;TZID=America/New_York:20260908T083000
DTSTAMP:20260425T185528
CREATED:20180902T234259Z
LAST-MODIFIED:20180902T234259Z
UID:116291-1788854400-1788856200@www.stpaulsrcc.org
SUMMARY:Rosary
DESCRIPTION:
URL:https://www.stpaulsrcc.org/event/rosary/2026-09-08/
END:VEVENT
BEGIN:VEVENT
DTSTART;TZID=America/New_York:20260908T083000
DTEND;TZID=America/New_York:20260908T090000
DTSTAMP:20260425T185528
CREATED:20180902T234550Z
LAST-MODIFIED:20180902T234550Z
UID:116290-1788856200-1788858000@www.stpaulsrcc.org
SUMMARY:Mass
DESCRIPTION:
URL:https://www.stpaulsrcc.org/event/mass/2026-09-08/
END:VEVENT
BEGIN:VEVENT
DTSTART;TZID=America/New_York:20260909T080000
DTEND;TZID=America/New_York:20260909T083000
DTSTAMP:20260425T185528
CREATED:20180902T234259Z
LAST-MODIFIED:20180902T234259Z
UID:116299-1788940800-1788942600@www.stpaulsrcc.org
SUMMARY:Rosary
DESCRIPTION:
URL:https://www.stpaulsrcc.org/event/rosary/2026-09-09/
END:VEVENT
BEGIN:VEVENT
DTSTART;TZID=America/New_York:20260909T083000
DTEND;TZID=America/New_York:20260909T090000
DTSTAMP:20260425T185528
CREATED:20180902T234550Z
LAST-MODIFIED:20180902T234550Z
UID:116298-1788942600-1788944400@www.stpaulsrcc.org
SUMMARY:Mass
DESCRIPTION:
URL:https://www.stpaulsrcc.org/event/mass/2026-09-09/
END:VEVENT
BEGIN:VEVENT
DTSTART;TZID=America/New_York:20260909T090000
DTEND;TZID=America/New_York:20260909T100000
DTSTAMP:20260425T185528
CREATED:20180902T235249Z
LAST-MODIFIED:20180902T235249Z
UID:116297-1788944400-1788948000@www.stpaulsrcc.org
SUMMARY:Adoration
DESCRIPTION:
URL:https://www.stpaulsrcc.org/event/adoration/2026-09-09/
END:VEVENT
BEGIN:VEVENT
DTSTART;TZID=America/New_York:20260910T080000
DTEND;TZID=America/New_York:20260910T083000
DTSTAMP:20260425T185528
CREATED:20180902T234259Z
LAST-MODIFIED:20180902T234259Z
UID:116303-1789027200-1789029000@www.stpaulsrcc.org
SUMMARY:Rosary
DESCRIPTION:
URL:https://www.stpaulsrcc.org/event/rosary/2026-09-10/
END:VEVENT
BEGIN:VEVENT
DTSTART;TZID=America/New_York:20260910T083000
DTEND;TZID=America/New_York:20260910T090000
DTSTAMP:20260425T185528
CREATED:20180902T234550Z
LAST-MODIFIED:20180902T234550Z
UID:116302-1789029000-1789030800@www.stpaulsrcc.org
SUMMARY:Mass
DESCRIPTION:
URL:https://www.stpaulsrcc.org/event/mass/2026-09-10/
END:VEVENT
BEGIN:VEVENT
DTSTART;TZID=America/New_York:20260911T080000
DTEND;TZID=America/New_York:20260911T083000
DTSTAMP:20260425T185528
CREATED:20180902T234259Z
LAST-MODIFIED:20180902T234259Z
UID:116307-1789113600-1789115400@www.stpaulsrcc.org
SUMMARY:Rosary
DESCRIPTION:
URL:https://www.stpaulsrcc.org/event/rosary/2026-09-11/
END:VEVENT
BEGIN:VEVENT
DTSTART;TZID=America/New_York:20260911T083000
DTEND;TZID=America/New_York:20260911T090000
DTSTAMP:20260425T185528
CREATED:20180902T234809Z
LAST-MODIFIED:20180902T234809Z
UID:116306-1789115400-1789117200@www.stpaulsrcc.org
SUMMARY:Communion Service
DESCRIPTION:
URL:https://www.stpaulsrcc.org/event/communion-service/2026-09-11/
END:VEVENT
BEGIN:VEVENT
DTSTART;TZID=America/New_York:20260912T160000
DTEND;TZID=America/New_York:20260912T163000
DTSTAMP:20260425T185528
CREATED:20180902T235631Z
LAST-MODIFIED:20180902T235631Z
UID:116313-1789228800-1789230600@www.stpaulsrcc.org
SUMMARY:Confession
DESCRIPTION:
URL:https://www.stpaulsrcc.org/event/confession/2026-09-12/
END:VEVENT
BEGIN:VEVENT
DTSTART;TZID=America/New_York:20260912T170000
DTEND;TZID=America/New_York:20260912T170000
DTSTAMP:20260425T185528
CREATED:20180822T184844Z
LAST-MODIFIED:20180822T184844Z
UID:116312-1789232400-1789232400@www.stpaulsrcc.org
SUMMARY:5:00 pm Mass
DESCRIPTION:
URL:https://www.stpaulsrcc.org/event/500-mass/2026-09-12/
END:VEVENT
BEGIN:VEVENT
DTSTART;TZID=America/New_York:20260913T090000
DTEND;TZID=America/New_York:20260913T100000
DTSTAMP:20260425T185528
CREATED:20180919T155747Z
LAST-MODIFIED:20180919T155747Z
UID:116314-1789290000-1789293600@www.stpaulsrcc.org
SUMMARY:9:00 am Mass
DESCRIPTION:
URL:https://www.stpaulsrcc.org/event/900-mass/2026-09-13/
END:VEVENT
BEGIN:VEVENT
DTSTART;TZID=America/New_York:20260913T110000
DTEND;TZID=America/New_York:20260913T110000
DTSTAMP:20260425T185528
CREATED:20180919T173655Z
LAST-MODIFIED:20180919T173655Z
UID:116315-1789297200-1789297200@www.stpaulsrcc.org
SUMMARY:11:00 am Mass
DESCRIPTION:
URL:https://www.stpaulsrcc.org/event/1100-mass/2026-09-13/
END:VEVENT
BEGIN:VEVENT
DTSTART;TZID=America/New_York:20260914T080000
DTEND;TZID=America/New_York:20260914T083000
DTSTAMP:20260425T185528
CREATED:20180902T234259Z
LAST-MODIFIED:20180902T234259Z
UID:116318-1789372800-1789374600@www.stpaulsrcc.org
SUMMARY:Rosary
DESCRIPTION:
URL:https://www.stpaulsrcc.org/event/rosary/2026-09-14/
END:VEVENT
BEGIN:VEVENT
DTSTART;TZID=America/New_York:20260914T083000
DTEND;TZID=America/New_York:20260914T090000
DTSTAMP:20260425T185528
CREATED:20180902T234550Z
LAST-MODIFIED:20180902T234550Z
UID:116317-1789374600-1789376400@www.stpaulsrcc.org
SUMMARY:Mass
DESCRIPTION:
URL:https://www.stpaulsrcc.org/event/mass/2026-09-14/
END:VEVENT
END:VCALENDAR