BEGIN:VCALENDAR
VERSION:2.0
PRODID:-//St. Paul&#039;s Roman Catholic Church - ECPv6.15.20//NONSGML v1.0//EN
CALSCALE:GREGORIAN
METHOD:PUBLISH
X-ORIGINAL-URL:https://www.stpaulsrcc.org
X-WR-CALDESC:Events for St. Paul&#039;s Roman Catholic Church
REFRESH-INTERVAL;VALUE=DURATION:PT1H
X-Robots-Tag:noindex
X-PUBLISHED-TTL:PT1H
BEGIN:VTIMEZONE
TZID:America/New_York
BEGIN:DAYLIGHT
TZOFFSETFROM:-0500
TZOFFSETTO:-0400
TZNAME:EDT
DTSTART:20250309T070000
END:DAYLIGHT
BEGIN:STANDARD
TZOFFSETFROM:-0400
TZOFFSETTO:-0500
TZNAME:EST
DTSTART:20251102T060000
END:STANDARD
BEGIN:DAYLIGHT
TZOFFSETFROM:-0500
TZOFFSETTO:-0400
TZNAME:EDT
DTSTART:20260308T070000
END:DAYLIGHT
BEGIN:STANDARD
TZOFFSETFROM:-0400
TZOFFSETTO:-0500
TZNAME:EST
DTSTART:20261101T060000
END:STANDARD
BEGIN:DAYLIGHT
TZOFFSETFROM:-0500
TZOFFSETTO:-0400
TZNAME:EDT
DTSTART:20270314T070000
END:DAYLIGHT
BEGIN:STANDARD
TZOFFSETFROM:-0400
TZOFFSETTO:-0500
TZNAME:EST
DTSTART:20271107T060000
END:STANDARD
END:VTIMEZONE
BEGIN:VEVENT
DTSTART;TZID=America/New_York:20261201T080000
DTEND;TZID=America/New_York:20261201T083000
DTSTAMP:20260425T235047
CREATED:20180902T234259Z
LAST-MODIFIED:20180902T234259Z
UID:116748-1796112000-1796113800@www.stpaulsrcc.org
SUMMARY:Rosary
DESCRIPTION:
URL:https://www.stpaulsrcc.org/event/rosary/2026-12-01/
END:VEVENT
BEGIN:VEVENT
DTSTART;TZID=America/New_York:20261201T083000
DTEND;TZID=America/New_York:20261201T090000
DTSTAMP:20260425T235047
CREATED:20180902T234550Z
LAST-MODIFIED:20180902T234550Z
UID:116747-1796113800-1796115600@www.stpaulsrcc.org
SUMMARY:Mass
DESCRIPTION:
URL:https://www.stpaulsrcc.org/event/mass/2026-12-01/
END:VEVENT
BEGIN:VEVENT
DTSTART;TZID=America/New_York:20261202T080000
DTEND;TZID=America/New_York:20261202T083000
DTSTAMP:20260425T235047
CREATED:20180902T234259Z
LAST-MODIFIED:20180902T234259Z
UID:116754-1796198400-1796200200@www.stpaulsrcc.org
SUMMARY:Rosary
DESCRIPTION:
URL:https://www.stpaulsrcc.org/event/rosary/2026-12-02/
END:VEVENT
BEGIN:VEVENT
DTSTART;TZID=America/New_York:20261202T083000
DTEND;TZID=America/New_York:20261202T090000
DTSTAMP:20260425T235047
CREATED:20180902T234550Z
LAST-MODIFIED:20180902T234550Z
UID:116753-1796200200-1796202000@www.stpaulsrcc.org
SUMMARY:Mass
DESCRIPTION:
URL:https://www.stpaulsrcc.org/event/mass/2026-12-02/
END:VEVENT
BEGIN:VEVENT
DTSTART;TZID=America/New_York:20261202T090000
DTEND;TZID=America/New_York:20261202T100000
DTSTAMP:20260425T235047
CREATED:20180902T235249Z
LAST-MODIFIED:20180902T235249Z
UID:116752-1796202000-1796205600@www.stpaulsrcc.org
SUMMARY:Adoration
DESCRIPTION:
URL:https://www.stpaulsrcc.org/event/adoration/2026-12-02/
END:VEVENT
BEGIN:VEVENT
DTSTART;TZID=America/New_York:20261203T080000
DTEND;TZID=America/New_York:20261203T083000
DTSTAMP:20260425T235047
CREATED:20180902T234259Z
LAST-MODIFIED:20180902T234259Z
UID:116759-1796284800-1796286600@www.stpaulsrcc.org
SUMMARY:Rosary
DESCRIPTION:
URL:https://www.stpaulsrcc.org/event/rosary/2026-12-03/
END:VEVENT
BEGIN:VEVENT
DTSTART;TZID=America/New_York:20261203T083000
DTEND;TZID=America/New_York:20261203T090000
DTSTAMP:20260425T235047
CREATED:20180902T234550Z
LAST-MODIFIED:20180902T234550Z
UID:116758-1796286600-1796288400@www.stpaulsrcc.org
SUMMARY:Mass
DESCRIPTION:
URL:https://www.stpaulsrcc.org/event/mass/2026-12-03/
END:VEVENT
BEGIN:VEVENT
DTSTART;TZID=America/New_York:20261204T080000
DTEND;TZID=America/New_York:20261204T083000
DTSTAMP:20260425T235047
CREATED:20180902T234259Z
LAST-MODIFIED:20180902T234259Z
UID:116761-1796371200-1796373000@www.stpaulsrcc.org
SUMMARY:Rosary
DESCRIPTION:
URL:https://www.stpaulsrcc.org/event/rosary/2026-12-04/
END:VEVENT
BEGIN:VEVENT
DTSTART;TZID=America/New_York:20261204T083000
DTEND;TZID=America/New_York:20261204T090000
DTSTAMP:20260425T235047
CREATED:20180902T234809Z
LAST-MODIFIED:20180902T234809Z
UID:116760-1796373000-1796374800@www.stpaulsrcc.org
SUMMARY:Communion Service
DESCRIPTION:
URL:https://www.stpaulsrcc.org/event/communion-service/2026-12-04/
END:VEVENT
BEGIN:VEVENT
DTSTART;TZID=America/New_York:20261205T160000
DTEND;TZID=America/New_York:20261205T163000
DTSTAMP:20260425T235047
CREATED:20180902T235631Z
LAST-MODIFIED:20180902T235631Z
UID:116767-1796486400-1796488200@www.stpaulsrcc.org
SUMMARY:Confession
DESCRIPTION:
URL:https://www.stpaulsrcc.org/event/confession/2026-12-05/
END:VEVENT
BEGIN:VEVENT
DTSTART;TZID=America/New_York:20261205T170000
DTEND;TZID=America/New_York:20261205T170000
DTSTAMP:20260425T235047
CREATED:20180822T184844Z
LAST-MODIFIED:20180822T184844Z
UID:116766-1796490000-1796490000@www.stpaulsrcc.org
SUMMARY:5:00 pm Mass
DESCRIPTION:
URL:https://www.stpaulsrcc.org/event/500-mass/2026-12-05/
END:VEVENT
BEGIN:VEVENT
DTSTART;TZID=America/New_York:20261206T090000
DTEND;TZID=America/New_York:20261206T100000
DTSTAMP:20260425T235047
CREATED:20180919T155747Z
LAST-MODIFIED:20180919T155747Z
UID:116768-1796547600-1796551200@www.stpaulsrcc.org
SUMMARY:9:00 am Mass
DESCRIPTION:
URL:https://www.stpaulsrcc.org/event/900-mass/2026-12-06/
END:VEVENT
BEGIN:VEVENT
DTSTART;TZID=America/New_York:20261206T110000
DTEND;TZID=America/New_York:20261206T110000
DTSTAMP:20260425T235047
CREATED:20180919T173655Z
LAST-MODIFIED:20180919T173655Z
UID:116769-1796554800-1796554800@www.stpaulsrcc.org
SUMMARY:11:00 am Mass
DESCRIPTION:
URL:https://www.stpaulsrcc.org/event/1100-mass/2026-12-06/
END:VEVENT
BEGIN:VEVENT
DTSTART;TZID=America/New_York:20261207T080000
DTEND;TZID=America/New_York:20261207T083000
DTSTAMP:20260425T235047
CREATED:20180902T234259Z
LAST-MODIFIED:20180902T234259Z
UID:116774-1796630400-1796632200@www.stpaulsrcc.org
SUMMARY:Rosary
DESCRIPTION:
URL:https://www.stpaulsrcc.org/event/rosary/2026-12-07/
END:VEVENT
BEGIN:VEVENT
DTSTART;TZID=America/New_York:20261207T083000
DTEND;TZID=America/New_York:20261207T090000
DTSTAMP:20260425T235047
CREATED:20180902T234550Z
LAST-MODIFIED:20180902T234550Z
UID:116773-1796632200-1796634000@www.stpaulsrcc.org
SUMMARY:Mass
DESCRIPTION:
URL:https://www.stpaulsrcc.org/event/mass/2026-12-07/
END:VEVENT
BEGIN:VEVENT
DTSTART;TZID=America/New_York:20261208T080000
DTEND;TZID=America/New_York:20261208T083000
DTSTAMP:20260425T235047
CREATED:20180902T234259Z
LAST-MODIFIED:20180902T234259Z
UID:116789-1796716800-1796718600@www.stpaulsrcc.org
SUMMARY:Rosary
DESCRIPTION:
URL:https://www.stpaulsrcc.org/event/rosary/2026-12-08/
END:VEVENT
BEGIN:VEVENT
DTSTART;TZID=America/New_York:20261208T083000
DTEND;TZID=America/New_York:20261208T090000
DTSTAMP:20260425T235047
CREATED:20180902T234550Z
LAST-MODIFIED:20180902T234550Z
UID:116788-1796718600-1796720400@www.stpaulsrcc.org
SUMMARY:Mass
DESCRIPTION:
URL:https://www.stpaulsrcc.org/event/mass/2026-12-08/
END:VEVENT
BEGIN:VEVENT
DTSTART;TZID=America/New_York:20261209T080000
DTEND;TZID=America/New_York:20261209T083000
DTSTAMP:20260425T235047
CREATED:20180902T234259Z
LAST-MODIFIED:20180902T234259Z
UID:116793-1796803200-1796805000@www.stpaulsrcc.org
SUMMARY:Rosary
DESCRIPTION:
URL:https://www.stpaulsrcc.org/event/rosary/2026-12-09/
END:VEVENT
BEGIN:VEVENT
DTSTART;TZID=America/New_York:20261209T083000
DTEND;TZID=America/New_York:20261209T090000
DTSTAMP:20260425T235047
CREATED:20180902T234550Z
LAST-MODIFIED:20180902T234550Z
UID:116792-1796805000-1796806800@www.stpaulsrcc.org
SUMMARY:Mass
DESCRIPTION:
URL:https://www.stpaulsrcc.org/event/mass/2026-12-09/
END:VEVENT
BEGIN:VEVENT
DTSTART;TZID=America/New_York:20261209T090000
DTEND;TZID=America/New_York:20261209T100000
DTSTAMP:20260425T235047
CREATED:20180902T235249Z
LAST-MODIFIED:20180902T235249Z
UID:116791-1796806800-1796810400@www.stpaulsrcc.org
SUMMARY:Adoration
DESCRIPTION:
URL:https://www.stpaulsrcc.org/event/adoration/2026-12-09/
END:VEVENT
BEGIN:VEVENT
DTSTART;TZID=America/New_York:20261210T080000
DTEND;TZID=America/New_York:20261210T083000
DTSTAMP:20260425T235047
CREATED:20180902T234259Z
LAST-MODIFIED:20180902T234259Z
UID:116796-1796889600-1796891400@www.stpaulsrcc.org
SUMMARY:Rosary
DESCRIPTION:
URL:https://www.stpaulsrcc.org/event/rosary/2026-12-10/
END:VEVENT
BEGIN:VEVENT
DTSTART;TZID=America/New_York:20261210T083000
DTEND;TZID=America/New_York:20261210T090000
DTSTAMP:20260425T235047
CREATED:20180902T234550Z
LAST-MODIFIED:20180902T234550Z
UID:116795-1796891400-1796893200@www.stpaulsrcc.org
SUMMARY:Mass
DESCRIPTION:
URL:https://www.stpaulsrcc.org/event/mass/2026-12-10/
END:VEVENT
BEGIN:VEVENT
DTSTART;TZID=America/New_York:20261211T080000
DTEND;TZID=America/New_York:20261211T083000
DTSTAMP:20260425T235047
CREATED:20180902T234259Z
LAST-MODIFIED:20180902T234259Z
UID:116799-1796976000-1796977800@www.stpaulsrcc.org
SUMMARY:Rosary
DESCRIPTION:
URL:https://www.stpaulsrcc.org/event/rosary/2026-12-11/
END:VEVENT
BEGIN:VEVENT
DTSTART;TZID=America/New_York:20261211T083000
DTEND;TZID=America/New_York:20261211T090000
DTSTAMP:20260425T235047
CREATED:20180902T234809Z
LAST-MODIFIED:20180902T234809Z
UID:116798-1796977800-1796979600@www.stpaulsrcc.org
SUMMARY:Communion Service
DESCRIPTION:
URL:https://www.stpaulsrcc.org/event/communion-service/2026-12-11/
END:VEVENT
BEGIN:VEVENT
DTSTART;TZID=America/New_York:20261212T160000
DTEND;TZID=America/New_York:20261212T163000
DTSTAMP:20260425T235047
CREATED:20180902T235631Z
LAST-MODIFIED:20180902T235631Z
UID:116802-1797091200-1797093000@www.stpaulsrcc.org
SUMMARY:Confession
DESCRIPTION:
URL:https://www.stpaulsrcc.org/event/confession/2026-12-12/
END:VEVENT
BEGIN:VEVENT
DTSTART;TZID=America/New_York:20261212T170000
DTEND;TZID=America/New_York:20261212T170000
DTSTAMP:20260425T235047
CREATED:20180822T184844Z
LAST-MODIFIED:20180822T184844Z
UID:116801-1797094800-1797094800@www.stpaulsrcc.org
SUMMARY:5:00 pm Mass
DESCRIPTION:
URL:https://www.stpaulsrcc.org/event/500-mass/2026-12-12/
END:VEVENT
BEGIN:VEVENT
DTSTART;TZID=America/New_York:20261213T090000
DTEND;TZID=America/New_York:20261213T100000
DTSTAMP:20260425T235047
CREATED:20180919T155747Z
LAST-MODIFIED:20180919T155747Z
UID:116806-1797152400-1797156000@www.stpaulsrcc.org
SUMMARY:9:00 am Mass
DESCRIPTION:
URL:https://www.stpaulsrcc.org/event/900-mass/2026-12-13/
END:VEVENT
BEGIN:VEVENT
DTSTART;TZID=America/New_York:20261213T110000
DTEND;TZID=America/New_York:20261213T110000
DTSTAMP:20260425T235047
CREATED:20180919T173655Z
LAST-MODIFIED:20180919T173655Z
UID:116807-1797159600-1797159600@www.stpaulsrcc.org
SUMMARY:11:00 am Mass
DESCRIPTION:
URL:https://www.stpaulsrcc.org/event/1100-mass/2026-12-13/
END:VEVENT
BEGIN:VEVENT
DTSTART;TZID=America/New_York:20261214T080000
DTEND;TZID=America/New_York:20261214T083000
DTSTAMP:20260425T235047
CREATED:20180902T234259Z
LAST-MODIFIED:20180902T234259Z
UID:116812-1797235200-1797237000@www.stpaulsrcc.org
SUMMARY:Rosary
DESCRIPTION:
URL:https://www.stpaulsrcc.org/event/rosary/2026-12-14/
END:VEVENT
BEGIN:VEVENT
DTSTART;TZID=America/New_York:20261214T083000
DTEND;TZID=America/New_York:20261214T090000
DTSTAMP:20260425T235047
CREATED:20180902T234550Z
LAST-MODIFIED:20180902T234550Z
UID:116811-1797237000-1797238800@www.stpaulsrcc.org
SUMMARY:Mass
DESCRIPTION:
URL:https://www.stpaulsrcc.org/event/mass/2026-12-14/
END:VEVENT
END:VCALENDAR